Workbook

Sheet Jan 09
A4: 39814
A5: Country | B5: RmNts | C5: ARR | D5: Revenue | E5: F& B Rev | F5: Avr Sp F&B | G5: Other Rev | H5: Total Rev | I5: Perc%
A6: UK | B6: 1747 | C6: =IF(ISERROR(D6/B6),0,(D6/B6)) -> 389.56185 | D6: 680564.56 | E6: 122290 | F6: =IF(ISERROR(E6/B6),0,(E6/B6)) -> 70 | G6: 171105.37 | H6: =G6+E6+D6 -> 973959.93 | I6: =B6/$B$20 -> 0.19374515
A7: Italian | B7: 225 | C7: =IF(ISERROR(D7/B7),0,(D7/B7)) -> 323.56827 | D7: 72802.86 | E7: 14625 | F7: =IF(ISERROR(E7/B7),0,(E7/B7)) -> 65 | G7: 24737.72 | H7: =G7+E7+D7 -> 112165.58 | I7: =B7/$B$20 -> 0.024952867
A8: Egyptian | B8: 795 | C8: =IF(ISERROR(D8/B8),0,(D8/B8)) -> 501.33179 | D8: 398558.77 | E8: 54060 | F8: =IF(ISERROR(E8/B8),0,(E8/B8)) -> 68 | G8: 51747.61 | H8: =G8+E8+D8 -> 504366.38 | I8: =B8/$B$20 -> 0.088166796
A9: Russian and EE | B9: 3379 | C9: =IF(ISERROR(D9/B9),0,(D9/B9)) -> 255.83464 | D9: 864465.25 | E9: 233151 | F9: =IF(ISERROR(E9/B9),0,(E9/B9)) -> 69 | G9: 490921.53 | H9: =G9+E9+D9 -> 1588537.8 | I9: =B9/$B$20 -> 0.37473661
A10: Scandinavian | B10: 2083 | C10: =IF(ISERROR(D10/B10),0,(D10/B10)) -> 331.81105 | D10: 691162.41 | E10: 162178.11 | F10: =IF(ISERROR(E10/B10),0,(E10/B10)) -> 77.85795 | G10: 122873.27 | H10: =G10+E10+D10 -> 976213.79 | I10: =B10/$B$20 -> 0.2310081
A11: ME and Gulf | B11: 144 | C11: =IF(ISERROR(D11/B11),0,(D11/B11)) -> 364.03785 | D11: 52421.45 | E11: 3983.72 | F11: =IF(ISERROR(E11/B11),0,(E11/B11)) -> 27.664722 | G11: 4951.3 | H11: =G11+E11+D11 -> 61356.47 | I11: =B11/$B$20 -> 0.015969835
A12: France | B12: 70 | C12: =IF(ISERROR(D12/B12),0,(D12/B12)) -> 185.90743 | D12: 13013.52 | E12: 1340.16 | F12: =IF(ISERROR(E12/B12),0,(E12/B12)) -> 19.145143 | G12: 1183.04 | H12: =G12+E12+D12 -> 15536.72 | I12: =B12/$B$20 -> 0.0077631141
A13: Netherland | B13: 255 | C13: =IF(ISERROR(D13/B13),0,(D13/B13)) -> 247.26169 | D13: 63051.73 | E13: 14790 | F13: =IF(ISERROR(E13/B13),0,(E13/B13)) -> 58 | G13: 36500.73 | H13: =G13+E13+D13 -> 114342.46 | I13: =B13/$B$20 -> 0.028279916
A14: Israeli | B14: 17 | C14: =IF(ISERROR(D14/B14),0,(D14/B14)) -> 248.08 | D14: 4217.36 | E14: 1144.27 | F14: =IF(ISERROR(E14/B14),0,(E14/B14)) -> 67.31 | G14: 317.83 | H14: =G14+E14+D14 -> 5679.46 | I14: =B14/$B$20 -> 0.0018853277
A15: Germany | B15: 81 | C15: =IF(ISERROR(D15/B15),0,(D15/B15)) -> 388.70012 | D15: 31484.71 | E15: 662 | F15: =IF(ISERROR(E15/B15),0,(E15/B15)) -> 8.1728395 | G15: 11238.21 | H15: =G15+E15+D15 -> 43384.92 | I15: =B15/$B$20 -> 0.0089830321
A16: Poland | B16: 59 | C16: =IF(ISERROR(D16/B16),0,(D16/B16)) -> 286.87915 | D16: 16925.87 | E16: 402 | F16: =IF(ISERROR(E16/B16),0,(E16/B16)) -> 6.8135593 | G16: 10359.29 | H16: =G16+E16+D16 -> 27687.16 | I16: =B16/$B$20 -> 0.0065431962
A17: Switzerland | B17: 15 | C17: =IF(ISERROR(D17/B17),0,(D17/B17)) -> 335.87933 | D17: 5038.19 | E17: 840 | F17: =IF(ISERROR(E17/B17),0,(E17/B17)) -> 56 | G17: 405.65 | H17: =G17+E17+D17 -> 6283.84 | I17: =B17/$B$20 -> 0.0016635245
... A19: Others | B19: 34 | C19: =IF(ISERROR(D19/B19),0,(D19/B19)) -> 538.84412 | D19: 18320.7 | E19: 839.72 | F19: =IF(ISERROR(E19/B19),0,(E19/B19)) -> 24.697647 | G19: 9367.37 | H19: =G19+E19+D19 -> 28527.79 | I19: =B19/$B$20 -> 0.0037706554
A20: Total | B20: =SUM(B6:B19) -> 9017 | C20: =IF(ISERROR(D20/B20),0,(D20/B20)) -> 329.19272 | D20: =SUM(D6:D19) -> 2968330.8 | E20: =SUM(E6:E19) -> 617646.13 | G20: =SUM(G6:G19) -> 944105.39 | H20: =SUM(H6:H19) -> 4530082.3 | I20: =SUM(I6:I19) -> 1
B21: =B20/(394*31) -> 0.73825119
A23: Diff +/- | B23: =B48-B20 -> 0 | C23: =IF(ISERROR(D23/B23),0,(D23/B23)) -> 0 | D23: =D48-D20 -> 48962.24 | E23: =E48-E20 -> 919346.66 | G23: =G48-G20 -> -672298.57 | H23: =H48-H20 -> 296010.33
G25: =47318.54+211132.9+1335.38+410362.3 -> 670149.12
A27: Denmark | B27: 501 | C27: =IF(ISERROR(D27/B27),0,(D27/B27)) -> 294.1289 | D27: 147358.58 | E27: 67361.33 | G27: 23114.21
A28: Sweden | B28: 456 | C28: =IF(ISERROR(D28/B28),0,(D28/B28)) -> 369.26265 | D28: 168383.77 | E28: 29324.6 | G28: 20199.84
A29: Norway | B29: 1445 | C29: =IF(ISERROR(D29/B29),0,(D29/B29)) -> 336.19417 | D29: 485800.58 | E29: 63470.04 | G29: 49259.54
A30: Finland | B30: 766 | C30: =IF(ISERROR(D30/B30),0,(D30/B30)) -> 326.84924 | D30: 250366.52 | E30: 24536.04 | G30: 30299.68
B31: =SUM(B27:B30) -> 3168 | C31: =IF(ISERROR(D31/B31),0,(D31/B31)) -> 332.04212 | D31: =SUM(D27:D30) -> 1051909.4 | E31: =SUM(E27:E30) -> 184692.01 | G31: =SUM(G27:G30) -> 122873.27 | H31: =SUM(D31:G31) -> 1359474.7
A33: Jordon | B33: 16 | C33: =IF(ISERROR(D33/B33),0,(D33/B33)) -> 528.86688 | D33: 8461.87 | E33: 1352.92 | G33: 1629.22
A34: Kuwait | B34: 22 | C34: =IF(ISERROR(D34/B34),0,(D34/B34)) -> 647.96727 | D34: 14255.28 | E34: 571.5 | G34: 1436.86
A35: Lebanon | B35: 36 | C35: =IF(ISERROR(D35/B35),0,(D35/B35)) -> 140.52667 | D35: 5058.96 | E35: 433 | G35: 1272.89
A36: ME Other | B36: 14 | C36: =IF(ISERROR(D37/B37),0,(D37/B37)) -> 569.08217 | D36: 9707.93 | E36: 524 | G36: 204.92
A37: Saudi Arabia | B37: 23 | C37: =IF(ISERROR(#REF!/#REF!),0,(#REF!/#REF!)) -> 0 | D37: 13088.89 | E37: 925.3 | G37: 287.41
A38: United Arab Emirates | B38: 33 | C38: =IF(ISERROR(D38/B38),0,(D38/B38)) -> 56.015758 | D38: 1848.52 | E38: 177 | G38: 120
B39: =SUM(B33:B38) -> 144 | C39: =IF(ISERROR(D39/B39),0,(D39/B39)) -> 364.03785 | D39: =SUM(D33:D38) -> 52421.45 | E39: =SUM(E33:E38) -> 3983.72 | G39: =SUM(G33:G38) -> 4951.3 | H39: =SUM(D39:G39) -> 61356.47
A41: Hungrian | C41: =IF(ISERROR(D41/B41),0,(D41/B41)) -> 0
A42: Ruussian | C42: =IF(ISERROR(D42/B42),0,(D42/B42)) -> 0
A43: Ukrain | C43: =IF(ISERROR(D43/B43),0,(D43/B43)) -> 0
A44: East Europe Others | C44: =IF(ISERROR(D44/B44),0,(D44/B44)) -> 0
B45: =SUM(B41:B44) -> 0 | C45: =IF(ISERROR(D45/B45),0,(D45/B45)) -> 0 | D45: =SUM(D41:D44) -> 0 | E45: =SUM(E41:E44) -> 0 | G45: =SUM(G41:G44) -> 0 | H45: =SUM(H41:H44) -> 0
A48: Actual closing of the Month | B48: 9017 | C48: =IF(ISERROR(D48/B48),0,(D48/B48)) -> 334.62272 | D48: 3017293 | E48: 1536992.8 | F48: 0 | G48: =47318.54+211132.9+13355.38 -> 271806.82 | H48: =SUM(D48:G48)-F48 -> 4826092.7
B49: =B20 -> 9017 | C49: =IF(ISERROR(D49/B49),0,(D49/B49)) -> 329.19272 | D49: =D20 -> 2968330.8 | E49: =E20 -> 617646.13 | F49: =F20 -> 0 | G49: =G20 -> 944105.39 | H49: =H20 -> 4530082.3
B50: =B48-B49 -> 0 | D50: =D48-D49 -> 48962.24 | E50: =E48-E49 -> 919346.66 | F50: =F48-F49 -> 0 | G50: =G48-G49 -> -672298.57 | H50: =H48-H49 -> 296010.33

Sheet Feb 09
A4: 39845
A5: Country | B5: RmNts | C5: ARR | D5: Revenue | E5: F& B Rev | F5: Avr Sp F&B | G5: Other Rev | H5: Total Rev | I5: Perc%
A6: UK | C6: =IF(ISERROR(D6/B6),0,(D6/B6)) -> 0 | F6: =IF(ISERROR(E6/B6),0,(E6/B6)) -> 0 | H6: =G6+E6+D6 -> 0 | I6: =B6/$B$20 -> #DIV/0!
A7: Italian | C7: =IF(ISERROR(D7/B7),0,(D7/B7)) -> 0 | F7: =IF(ISERROR(E7/B7),0,(E7/B7)) -> 0 | H7: =G7+E7+D7 -> 0 | I7: =B7/$B$20 -> #DIV/0!
A8: Egyptian | C8: =IF(ISERROR(D8/B8),0,(D8/B8)) -> 0 | F8: =IF(ISERROR(E8/B8),0,(E8/B8)) -> 0 | H8: =G8+E8+D8 -> 0 | I8: =B8/$B$20 -> #DIV/0!
A9: Russian and EE | C9: =IF(ISERROR(D9/B9),0,(D9/B9)) -> 0 | F9: =IF(ISERROR(E9/B9),0,(E9/B9)) -> 0 | H9: =G9+E9+D9 -> 0 | I9: =B9/$B$20 -> #DIV/0!
A10: Scandinavian | C10: =IF(ISERROR(D10/B10),0,(D10/B10)) -> 0 | F10: =IF(ISERROR(E10/B10),0,(E10/B10)) -> 0 | H10: =G10+E10+D10 -> 0 | I10: =B10/$B$20 -> #DIV/0!
A11: ME and Gulf | C11: =IF(ISERROR(D11/B11),0,(D11/B11)) -> 0 | F11: =IF(ISERROR(E11/B11),0,(E11/B11)) -> 0 | H11: =G11+E11+D11 -> 0 | I11: =B11/$B$20 -> #DIV/0!
A12: France | C12: =IF(ISERROR(D12/B12),0,(D12/B12)) -> 0 | F12: =IF(ISERROR(E12/B12),0,(E12/B12)) -> 0 | H12: =G12+E12+D12 -> 0 | I12: =B12/$B$20 -> #DIV/0!
A13: Netherland | C13: =IF(ISERROR(D13/B13),0,(D13/B13)) -> 0 | F13: =IF(ISERROR(E13/B13),0,(E13/B13)) -> 0 | H13: =G13+E13+D13 -> 0 | I13: =B13/$B$20 -> #DIV/0!
A14: Israeli | C14: =IF(ISERROR(D14/B14),0,(D14/B14)) -> 0 | F14: =IF(ISERROR(E14/B14),0,(E14/B14)) -> 0 | H14: =G14+E14+D14 -> 0 | I14: =B14/$B$20 -> #DIV/0!
A15: Germany | C15: =IF(ISERROR(D15/B15),0,(D15/B15)) -> 0 | F15: =IF(ISERROR(E15/B15),0,(E15/B15)) -> 0 | H15: =G15+E15+D15 -> 0 | I15: =B15/$B$20 -> #DIV/0!
A16: Poland | C16: =IF(ISERROR(D16/B16),0,(D16/B16)) -> 0 | F16: =IF(ISERROR(E16/B16),0,(E16/B16)) -> 0 | H16: =G16+E16+D16 -> 0 | I16: =B16/$B$20 -> #DIV/0!
A17: Switzerland | C17: =IF(ISERROR(D17/B17),0,(D17/B17)) -> 0 | F17: =IF(ISERROR(E17/B17),0,(E17/B17)) -> 0 | H17: =G17+E17+D17 -> 0 | I17: =B17/$B$20 -> #DIV/0!
... A19: Others | C19: =IF(ISERROR(D19/B19),0,(D19/B19)) -> 0 | F19: =IF(ISERROR(E19/B19),0,(E19/B19)) -> 0 | H19: =G19+E19+D19 -> 0 | I19: =B19/$B$20 -> #DIV/0!
A20: Total | B20: =SUM(B6:B19) -> 0 | C20: =IF(ISERROR(D20/B20),0,(D20/B20)) -> 0 | D20: =SUM(D6:D19) -> 0 | E20: =SUM(E6:E19) -> 0 | G20: =SUM(G6:G19) -> 0 | H20: =SUM(H6:H19) -> 0 | I20: =SUM(I6:I19) -> #DIV/0!
B21: =B20/(394*29) -> 0
A23: Diff +/-
A27: Denmark | B27: 569 | C27: =IF(ISERROR(D27/B27),0,(D27/B27)) -> 390.34028 | D27: 222103.62 | E27: 78037.62 | G27: 40274.89 | H27: =SUM(D27:G27) -> 340416.13
A28: Sweden | B28: 14 | C28: =IF(ISERROR(D28/B28),0,(D28/B28)) -> 404.03429 | D28: 5656.48 | E28: 907.71 | G28: 1027.23 | H28: =SUM(D28:G28) -> 7591.42
A29: Norway | B29: 300 | C29: =IF(ISERROR(D29/B29),0,(D29/B29)) -> 906.22763 | D29: 271868.29 | E29: 83977.36 | G29: 40988.99 | H29: =SUM(D29:G29) -> 396834.64
A30: Finland | B30: 94 | C30: =IF(ISERROR(D30/B30),0,(D30/B30)) -> 849.95596 | D30: 79895.86 | E30: 18534.97 | G30: 10157.8 | H30: =SUM(D30:G30) -> 108588.63
B31: =SUM(B27:B30) -> 977 | C31: =IF(ISERROR(D31/B31),0,(D31/B31)) -> 593.16709 | D31: =SUM(D27:D30) -> 579524.25 | E31: =SUM(E27:E30) -> 181457.66 | G31: =SUM(G27:G30) -> 92448.91 | H31: =SUM(D31:G31) -> 853430.82
A33: Jordon | B33: 3 | C33: =IF(ISERROR(D33/B33),0,(D33/B33)) -> 328.7 | D33: 986.1 | E33: 62.46 | G33: 125.76 | H33: =SUM(D33:G33) -> 1174.32
A34: Kuwait | B34: 63 | C34: =IF(ISERROR(D34/B34),0,(D34/B34)) -> 400.70302 | D34: 25244.29 | E34: 1613.79 | G34: 3744.1 | H34: =SUM(D34:G34) -> 30602.18
A35: Lebanon | B35: 43 | C35: =IF(ISERROR(D35/B35),0,(D35/B35)) -> 306.05419 | D35: 13160.33 | E35: 2041.34 | G35: 2242.93 | H35: =SUM(D35:G35) -> 17444.6
A36: ME Other | B36: 36 | C36: =IF(ISERROR(D36/B36),0,(D36/B36)) -> 473.07028 | D36: 17030.53 | E36: 1588.2 | G36: 3265.64 | H36: =SUM(D36:G36) -> 21884.37
A37: Saudi Arabia | B37: 37 | C37: =IF(ISERROR(D37/B37),0,(D37/B37)) -> 508.62676 | D37: 18819.19 | E37: 2366.3 | G37: 2366.3 | H37: =SUM(D37:G37) -> 23551.79
A38: United Arab Emirates | C38: =IF(ISERROR(D38/B38),0,(D38/B38)) -> 0 | H38: =SUM(D38:G38) -> 0
B39: =SUM(B33:B38) -> 182 | C39: =IF(ISERROR(D39/B39),0,(D39/B39)) -> 413.40901 | D39: =SUM(D33:D38) -> 75240.44 | E39: =SUM(E33:E38) -> 7672.09 | G39: =SUM(G33:G38) -> 11744.73 | H39: =SUM(H33:H38) -> 94657.26
A41: Hungary | B41: 25 | C41: =IF(ISERROR(D41/B41),0,(D41/B41)) -> 177.5852 | D41: 4439.63 | E41: 3250.41 | G41: 918.98 | H41: =SUM(D41:G41) -> 8609.02
A42: Russia | B42: 1825 | C42: =IF(ISERROR(D42/B42),0,(D42/B42)) -> 233.72583 | D42: 426549.64 | E42: 232512.62 | G42: 86987.65 | H42: =SUM(D42:G42) -> 746049.91
A43: East Europe others | B43: 626 | C43: =IF(ISERROR(D43/B43),0,(D43/B43)) -> 233.57088 | D43: 146215.37 | E43: 67179.11 | G43: 28587.29 | H43: =SUM(D43:G43) -> 241981.77
B44: =SUM(B41:B43) -> 2476 | C44: =IF(ISERROR(D44/B44),0,(D44/B44)) -> 233.11981 | D44: =SUM(D41:D43) -> 577204.64 | E44: =SUM(E41:E43) -> 302942.14 | G44: =SUM(G41:G43) -> 116493.92 | H44: =SUM(D44:G44) -> 996640.7
A52: Actual closing of the Month | B52: 11103 | C52: =IF(ISERROR(D52/B52),0,(D52/B52)) -> 306.66001 | D52: 3404846.1 | E52: 1871448.3 | G52: 716451 | H52: =+G52+E52+D52 -> 5992745.4

Sheet Mar 09
A4: 39873
A5: Country | B5: RmNts | C5: ARR | D5: Revenue | E5: F& B Rev | F5: Avr Sp F&B | G5: Other Rev | H5: Total Rev | I5: Perc%
A6: UK | C6: =IF(ISERROR(D6/B6),0,(D6/B6)) -> 0 | F6: =E6/B6 -> #DIV/0! | H6: =G6+E6+D6 -> 0 | I6: =B6/$B$20 -> #DIV/0!
A7: Italian | C7: =IF(ISERROR(D7/B7),0,(D7/B7)) -> 0 | F7: =E7/B7 -> #DIV/0! | H7: =G7+E7+D7 -> 0 | I7: =B7/$B$20 -> #DIV/0!
A8: Egyptian | C8: =IF(ISERROR(D8/B8),0,(D8/B8)) -> 0 | F8: =E8/B8 -> #DIV/0! | H8: =G8+E8+D8 -> 0 | I8: =B8/$B$20 -> #DIV/0!
A9: Russian and EE | C9: =IF(ISERROR(D9/B9),0,(D9/B9)) -> 0 | F9: =E9/B9 -> #DIV/0! | H9: =G9+E9+D9 -> 0 | I9: =B9/$B$20 -> #DIV/0!
A10: Scandinavian | C10: =IF(ISERROR(D10/B10),0,(D10/B10)) -> 0 | F10: =E10/B10 -> #DIV/0! | H10: =G10+E10+D10 -> 0 | I10: =B10/$B$20 -> #DIV/0!
A11: ME and Gulf | C11: =IF(ISERROR(D11/B11),0,(D11/B11)) -> 0 | F11: =E11/B11 -> #DIV/0! | H11: =G11+E11+D11 -> 0 | I11: =B11/$B$20 -> #DIV/0!
A12: France | C12: =IF(ISERROR(D12/B12),0,(D12/B12)) -> 0 | F12: =E12/B12 -> #DIV/0! | H12: =G12+E12+D12 -> 0 | I12: =B12/$B$20 -> #DIV/0!
A13: Netherland | C13: =IF(ISERROR(D13/B13),0,(D13/B13)) -> 0 | F13: =E13/B13 -> #DIV/0! | H13: =G13+E13+D13 -> 0 | I13: =B13/$B$20 -> #DIV/0!
A14: Israeli | C14: =IF(ISERROR(D14/B14),0,(D14/B14)) -> 0 | F14: =E14/B14 -> #DIV/0! | H14: =G14+E14+D14 -> 0 | I14: =B14/$B$20 -> #DIV/0!
A15: Germany | C15: =IF(ISERROR(D15/B15),0,(D15/B15)) -> 0 | F15: =E15/B15 -> #DIV/0! | H15: =G15+E15+D15 -> 0 | I15: =B15/$B$20 -> #DIV/0!
A16: Poland | C16: =IF(ISERROR(D16/B16),0,(D16/B16)) -> 0 | F16: =E16/B16 -> #DIV/0! | H16: =G16+E16+D16 -> 0 | I16: =B16/$B$20 -> #DIV/0!
A17: Switzerland | C17: =IF(ISERROR(D17/B17),0,(D17/B17)) -> 0 | F17: =E17/B17 -> #DIV/0! | H17: =G17+E17+D17 -> 0 | I17: =B17/$B$20 -> #DIV/0!
... A19: Others | C19: =IF(ISERROR(D19/B19),0,(D19/B19)) -> 0 | F19: =E19/B19 -> #DIV/0! | H19: =G19+E19+D19 -> 0 | I19: =B19/$B$20 -> #DIV/0!
A20: Total | B20: =SUM(B6:B19) -> 0 | C20: =IF(ISERROR(D20/B20),0,(D20/B20)) -> 0 | D20: =SUM(D6:D19) -> 0 | E20: =SUM(E6:E19) -> 0 | G20: =SUM(G6:G19) -> 0 | H20: =SUM(H6:H19) -> 0 | I20: =SUM(I6:I19) -> #DIV/0!
B21: =B20/(394*31) -> 0
A23: Diff +/-
A27: Denmark | B27: 619 | C27: =IF(ISERROR(D27/B27),0,(D27/B27)) -> 393.36829 | D27: 243494.97 | E27: 78675.09 | G27: 39173.64 | H27: =SUM(D27:G27) -> 361343.7
A28: Sweden | B28: 6 | C28: =IF(ISERROR(D28/B28),0,(D28/B28)) -> 564.55 | D28: 3387.3 | E28: 526.86 | G28: 445.57 | H28: =SUM(D28:G28) -> 4359.73
A29: Norway | B29: 371 | C29: =IF(ISERROR(D29/B29),0,(D29/B29)) -> 905.7045 | D29: 336016.37 | E29: 99975.26 | G29: 49274.26 | H29: =SUM(D29:G29) -> 485265.89
A30: Finland | B30: 179 | C30: =IF(ISERROR(D30/B30),0,(D30/B30)) -> 922.64508 | D30: 165153.47 | E30: 24412.97 | G30: 19783.34 | H30: =SUM(D30:G30) -> 209349.78
B31: =SUM(B27:B30) -> 1175 | C31: =IF(ISERROR(D31/B31),0,(D31/B31)) -> 636.64009 | D31: =SUM(D27:D30) -> 748052.11 | E31: =SUM(E27:E30) -> 203590.18 | G31: =SUM(G27:G30) -> 108676.81 | H31: =SUM(D31:G31) -> 1060319.1
A33: Jordon | B33: 11 | C33: =IF(ISERROR(D33/B33),0,(D33/B33)) -> 233.83364 | D33: 2572.17 | E33: 551.31 | G33: 644.3 | H33: =SUM(D33:G33) -> 3767.78
A34: Kuwait | B34: 22 | C34: =IF(ISERROR(D34/B34),0,(D34/B34)) -> 592.02955 | D34: 13024.65 | E34: 592.03 | G34: 2139.97 | H34: =SUM(D34:G34) -> 15756.65
A35: Lebanon | B35: 5 | C35: =IF(ISERROR(D35/B35),0,(D35/B35)) -> 124.728 | D35: 623.64 | E35: 402.28 | G35: 124.04 | H35: =SUM(D35:G35) -> 1149.96
A36: ME Other | B36: 23 | C36: =IF(ISERROR(D36/B36),0,(D36/B36)) -> 335.6687 | D36: 7720.38 | E36: 1301.21 | G36: 1284.96 | H36: =SUM(D36:G36) -> 10306.55
A37: Saudi Arabia | B37: 52 | C37: =IF(ISERROR(D37/B37),0,(D37/B37)) -> 520.08365 | D37: 27044.35 | E37: 4099.07 | G37: 4491.63 | H37: =SUM(D37:G37) -> 35635.05
A38: United Arab Emirates | B38: 9 | C38: =IF(ISERROR(D38/B38),0,(D38/B38)) -> 474.68556 | D38: 4272.17 | E38: 611.13 | G38: 1229.37 | H38: =SUM(D38:G38) -> 6112.67
B39: =SUM(B33:B38) -> 122 | C39: =IF(ISERROR(D39/B39),0,(D39/B39)) -> 452.92918 | D39: =SUM(D33:D38) -> 55257.36 | E39: =SUM(E33:E38) -> 7557.03 | G39: =SUM(G33:G38) -> 9914.27 | H39: =SUM(H33:H38) -> 72728.66
A41: Hungary | B41: 67 | C41: =IF(ISERROR(D41/B41),0,(D41/B41)) -> 315.83896 | D41: 21161.21 | E41: 12425.04 | G41: 4003.75 | H41: =SUM(D41:G41) -> 37590
A42: Russia | B42: 2905 | C42: =IF(ISERROR(D42/B42),0,(D42/B42)) -> 324.81165 | D42: 943577.85 | E42: 385606.73 | G42: 172453.08 | H42: =SUM(D42:G42) -> 1501637.7
A43: Other East Europe | B43: 486 | C43: =IF(ISERROR(D43/B43),0,(D43/B43)) -> 304.52329 | D43: 147998.32 | E43: 56731.72 | G43: 3024.61 | H43: =SUM(D43:G43) -> 207754.65
B45: =SUM(B41:B43) -> 3458 | C45: =IF(ISERROR(D45/B45),0,(D45/B45)) -> 321.7864 | D45: =SUM(D41:D43) -> 1112737.4 | E45: =SUM(E41:E43) -> 454763.49 | G45: =SUM(G41:G43) -> 179481.44 | H45: =SUM(D45:G45) -> 1746982.3
A47: Actual closing of the Month | B47: 11898 | C47: =IF(ISERROR(D47/B47),0,(D47/B47)) -> 381.06676 | D47: 4533932.3 | E47: 2102737.4 | G47: 1031556 | H47: =+G47+E47+D47 -> 7668225.7

Sheet April 09
A4: 39904
A5: Country | B5: RmNts | C5: ARR | D5: Revenue | E5: F& B Rev | F5: Avr Sp F&B | G5: Other Rev | H5: Total Rev | I5: Perc%
A6: UK | C6: =IF(ISERROR(D6/B6),0,(D6/B6)) -> 0 | F6: =E6/B6 -> #DIV/0! | H6: =+G6+E6+D6 -> 0 | I6: =B6/$B$20 -> #DIV/0!
A7: Italian | C7: =IF(ISERROR(D7/B7),0,(D7/B7)) -> 0 | F7: =E7/B7 -> #DIV/0! | H7: =+G7+E7+D7 -> 0 | I7: =B7/$B$20 -> #DIV/0!
A8: Egyptian | C8: =IF(ISERROR(D8/B8),0,(D8/B8)) -> 0 | F8: =E8/B8 -> #DIV/0! | H8: =+G8+E8+D8 -> 0 | I8: =B8/$B$20 -> #DIV/0!
A9: Russian and EE | C9: =IF(ISERROR(D9/B9),0,(D9/B9)) -> 0 | F9: =E9/B9 -> #DIV/0! | H9: =+G9+E9+D9 -> 0 | I9: =B9/$B$20 -> #DIV/0!
A10: Scandinavian | C10: =IF(ISERROR(D10/B10),0,(D10/B10)) -> 0 | F10: =E10/B10 -> #DIV/0! | H10: =+G10+E10+D10 -> 0 | I10: =B10/$B$20 -> #DIV/0!
A11: ME and Gulf | C11: =IF(ISERROR(D11/B11),0,(D11/B11)) -> 0 | F11: =E11/B11 -> #DIV/0! | H11: =+G11+E11+D11 -> 0 | I11: =B11/$B$20 -> #DIV/0!
A12: France | C12: =IF(ISERROR(D12/B12),0,(D12/B12)) -> 0 | F12: =E12/B12 -> #DIV/0! | H12: =+G12+E12+D12 -> 0 | I12: =B12/$B$20 -> #DIV/0!
A13: Netherland | C13: =IF(ISERROR(D13/B13),0,(D13/B13)) -> 0 | F13: =E13/B13 -> #DIV/0! | H13: =+G13+E13+D13 -> 0 | I13: =B13/$B$20 -> #DIV/0!
A14: Israeli | C14: =IF(ISERROR(D14/B14),0,(D14/B14)) -> 0 | F14: =E14/B14 -> #DIV/0! | H14: =+G14+E14+D14 -> 0 | I14: =B14/$B$20 -> #DIV/0!
A15: Germany | C15: =IF(ISERROR(D15/B15),0,(D15/B15)) -> 0 | F15: =E15/B15 -> #DIV/0! | H15: =+G15+E15+D15 -> 0 | I15: =B15/$B$20 -> #DIV/0!
A16: Poland | C16: =IF(ISERROR(D16/B16),0,(D16/B16)) -> 0 | F16: =E16/B16 -> #DIV/0! | H16: =+G16+E16+D16 -> 0 | I16: =B16/$B$20 -> #DIV/0!
A17: Switzerland | C17: =IF(ISERROR(D17/B17),0,(D17/B17)) -> 0 | F17: =E17/B17 -> #DIV/0! | H17: =+G17+E17+D17 -> 0 | I17: =B17/$B$20 -> #DIV/0!
... A19: Others | C19: =IF(ISERROR(D19/B19),0,(D19/B19)) -> 0 | F19: =E19/B19 -> #DIV/0! | H19: =+G19+E19+D19 -> 0 | I19: =B19/$B$20 -> #DIV/0!
A20: Total | B20: =SUM(B6:B19) -> 0 | C20: =IF(ISERROR(D20/B20),0,(D20/B20)) -> 0 | D20: =SUM(D6:D19) -> 0 | E20: =SUM(E6:E19) -> 0 | G20: =SUM(G6:G19) -> 0 | H20: =SUM(H6:H19) -> 0 | I20: =SUM(I6:I19) -> #DIV/0!
B21: =B20/(394*30) -> 0
A23: Diff +/-
A27: Denmark | B27: 153 | C27: =IF(ISERROR(D27/B27),0,(D27/B27)) -> 390.3398 | D27: 59721.99 | E27: 17441.77 | G27: 9243.15 | H27: =SUM(D27:G27) -> 86406.91
A28: Sweden | B28: 3 | C28: =IF(ISERROR(D28/B28),0,(D28/B28)) -> 1188.4333 | D28: 3565.3 | E28: 1807.8 | G28: 594.47 | H28: =SUM(D28:G28) -> 5967.57
A29: Norway | B29: 305 | C29: =IF(ISERROR(D29/B29),0,(D29/B29)) -> 685.60426 | D29: 209109.3 | E29: 55550.26 | G29: 33277.51 | H29: =SUM(D29:G29) -> 297937.07
A30: Finland | B30: 14 | C30: =IF(ISERROR(D30/B30),0,(D30/B30)) -> 423.14786 | D30: 5924.07 | E30: 1848.88 | G30: 922.25 | H30: =SUM(D30:G30) -> 8695.2
B31: =SUM(B27:B30) -> 475 | C31: =IF(ISERROR(D31/B31),0,(D31/B31)) -> 585.93823 | D31: =SUM(D27:D30) -> 278320.66 | E31: =SUM(E27:E30) -> 76648.71 | G31: =SUM(G27:G30) -> 44037.38 | H31: =SUM(D31:G31) -> 399006.75
A33: Jordon | B33: 19 | C33: =IF(ISERROR(D33/B33),0,(D33/B33)) -> 360.35053 | D33: 6846.66 | E33: 1808.73 | G33: 1037.05 | H33: =SUM(D33:G33) -> 9692.44
A34: Kuwait | B34: 20 | C34: =IF(ISERROR(D34/B34),0,(D34/B34)) -> 635.019 | D34: 12700.38 | E34: 1047.78 | G34: 2181.57 | H34: =SUM(D34:G34) -> 15929.73
A35: Lebanon | B35: 59 | C35: =IF(ISERROR(D35/B35),0,(D35/B35)) -> 379.90729 | D35: 22414.53 | E35: 8061.42 | G35: 3229.19 | H35: =SUM(D35:G35) -> 33705.14
A36: ME Other | B36: 27 | C36: =IF(ISERROR(D36/B36),0,(D36/B36)) -> 891.78148 | D36: 24078.1 | E36: 8986.66 | G36: 4630.94 | H36: =SUM(D36:G36) -> 37695.7
A37: Saudi Arabia | B37: 13 | C37: =IF(ISERROR(D37/B37),0,(D37/B37)) -> 1031.4623 | D37: 13409.01 | E37: 828.78 | G37: 1163.27 | H37: =SUM(D37:G37) -> 15401.06
A38: United Arab Emirates | B38: 3 | C38: =IF(ISERROR(D38/B38),0,(D38/B38)) -> 1973.05 | D38: 5919.15 | E38: 663.44 | G38: 432 | H38: =SUM(D38:G38) -> 7014.59
B39: =SUM(B33:B38) -> 141 | C39: =IF(ISERROR(D39/B39),0,(D39/B39)) -> 605.4456 | D39: =SUM(D33:D38) -> 85367.83 | E39: =SUM(E33:E38) -> 21396.81 | G39: =SUM(G33:G38) -> 12674.02 | H39: =SUM(H33:H38) -> 119438.66
A41: Hungary | B41: 27 | C41: =IF(ISERROR(D41/B41),0,(D41/B41)) -> 203.47704 | D41: 5493.88 | E41: 4795.18 | G41: 2156.33 | H41: =SUM(D41:G41) -> 12445.39
A42: Russia | B42: 3291 | C42: =IF(ISERROR(D42/B42),0,(D42/B42)) -> 331.21022 | D42: 1090012.8 | E42: 523461.55 | G42: 204583.44 | H42: =SUM(D42:G42) -> 1818057.8
A43: Other East Europe | B43: 767 | C43: =IF(ISERROR(D43/B43),0,(D43/B43)) -> 246.39125 | D43: 188982.09 | E43: 94571.44 | G43: 43102.67 | H43: =SUM(D43:G43) -> 326656.2
B45: =SUM(B41:B43) -> 4085 | C45: =IF(ISERROR(D45/B45),0,(D45/B45)) -> 314.44034 | D45: =SUM(D41:D43) -> 1284488.8 | E45: =SUM(E41:E43) -> 622828.17 | G45: =SUM(G41:G43) -> 249842.44 | H45: =SUM(D45:G45) -> 2157159.4
A47: Actual closing of the Month | B47: 11585 | C47: =IF(ISERROR(D47/B47),0,(D47/B47)) -> 339.63001 | D47: 3934613.6 | E47: 2222095 | G47: 912198 | H47: =+G47+E47+D47 -> 7068906.6

Sheet May 09
A4: 39934
A5: Country | B5: RmNts | C5: ARR | D5: Revenue | E5: F& B Rev | F5: Avr Sp F&B | G5: Other Rev | H5: Total Rev | I5: Perc%
A6: UK | C6: =IF(ISERROR(D6/B6),0,(D6/B6)) -> 0 | F6: =IF(ISERROR(E6/B6),0,(E6/B6)) -> 0 | H6: =+G6+E6+D6 -> 0 | I6: =B6/$B$20 -> #DIV/0!
A7: Italian | C7: =IF(ISERROR(D7/B7),0,(D7/B7)) -> 0 | F7: =IF(ISERROR(E7/B7),0,(E7/B7)) -> 0 | H7: =+G7+E7+D7 -> 0 | I7: =B7/$B$20 -> #DIV/0!
A8: Egyptian | C8: =IF(ISERROR(D8/B8),0,(D8/B8)) -> 0 | F8: =IF(ISERROR(E8/B8),0,(E8/B8)) -> 0 | H8: =+G8+E8+D8 -> 0 | I8: =B8/$B$20 -> #DIV/0!
A9: Russian and EE | C9: =IF(ISERROR(D9/B9),0,(D9/B9)) -> 0 | F9: =IF(ISERROR(E9/B9),0,(E9/B9)) -> 0 | H9: =+G9+E9+D9 -> 0 | I9: =B9/$B$20 -> #DIV/0!
A10: Scandinavian | C10: =IF(ISERROR(D10/B10),0,(D10/B10)) -> 0 | F10: =IF(ISERROR(E10/B10),0,(E10/B10)) -> 0 | H10: =+G10+E10+D10 -> 0 | I10: =B10/$B$20 -> #DIV/0!
A11: ME and Gulf | C11: =IF(ISERROR(D11/B11),0,(D11/B11)) -> 0 | F11: =IF(ISERROR(E11/B11),0,(E11/B11)) -> 0 | H11: =+G11+E11+D11 -> 0 | I11: =B11/$B$20 -> #DIV/0!
A12: France | C12: =IF(ISERROR(D12/B12),0,(D12/B12)) -> 0 | F12: =IF(ISERROR(E12/B12),0,(E12/B12)) -> 0 | H12: =+G12+E12+D12 -> 0 | I12: =B12/$B$20 -> #DIV/0!
A13: Netherland | C13: =IF(ISERROR(D13/B13),0,(D13/B13)) -> 0 | F13: =IF(ISERROR(E13/B13),0,(E13/B13)) -> 0 | H13: =+G13+E13+D13 -> 0 | I13: =B13/$B$20 -> #DIV/0!
A14: Israeli | C14: =IF(ISERROR(D14/B14),0,(D14/B14)) -> 0 | F14: =IF(ISERROR(E14/B14),0,(E14/B14)) -> 0 | H14: =+G14+E14+D14 -> 0 | I14: =B14/$B$20 -> #DIV/0!
A15: Germany | C15: =IF(ISERROR(D15/B15),0,(D15/B15)) -> 0 | F15: =IF(ISERROR(E15/B15),0,(E15/B15)) -> 0 | H15: =+G15+E15+D15 -> 0 | I15: =B15/$B$20 -> #DIV/0!
A16: Poland | C16: =IF(ISERROR(D16/B16),0,(D16/B16)) -> 0 | F16: =IF(ISERROR(E16/B16),0,(E16/B16)) -> 0 | H16: =+G16+E16+D16 -> 0 | I16: =B16/$B$20 -> #DIV/0!
A17: Switzerland | C17: =IF(ISERROR(D17/B17),0,(D17/B17)) -> 0 | F17: =IF(ISERROR(E17/B17),0,(E17/B17)) -> 0 | H17: =+G17+E17+D17 -> 0 | I17: =B17/$B$20 -> #DIV/0!
... A19: Others | C19: =IF(ISERROR(D19/B19),0,(D19/B19)) -> 0 | F19: =IF(ISERROR(E19/B19),0,(E19/B19)) -> 0 | H19: =+G19+E19+D19 -> 0 | I19: =B19/$B$20 -> #DIV/0!
A20: Total | B20: =SUM(B6:B19) -> 0 | C20: =IF(ISERROR(D20/B20),0,(D20/B20)) -> 0 | D20: =SUM(D6:D19) -> 0 | E20: =SUM(E6:E19) -> 0 | G20: =SUM(G6:G19) -> 0 | H20: =SUM(H6:H19) -> 0 | I20: =SUM(I6:I19) -> #DIV/0!
B21: =B20/(394*31) -> 0
A23: Diff +/-
A27: Denmark | B27: 140 | C27: =IF(ISERROR(D27/B27),0,(D27/B27)) -> 326.39671 | D27: 45695.54 | E27: 17212.2 | G27: 7309.27 | H27: =SUM(D27:G27) -> 70217.01
A28: Sweden | B28: 86 | C28: =IF(ISERROR(D28/B28),0,(D28/B28)) -> 567.60814 | D28: 48814.3 | E28: 16464.99 | G28: 8598.5 | H28: =SUM(D28:G28) -> 73877.79
A29: Norway | B29: 224 | C29: =IF(ISERROR(D29/B29),0,(D29/B29)) -> 435.80786 | D29: 97620.96 | E29: 42821.69 | G29: 17191.96 | H29: =SUM(D29:G29) -> 157634.61
A30: Finland | B30: 0 | C30: =IF(ISERROR(D30/B30),0,(D30/B30)) -> 0 | D30: 0 | E30: 0 | G30: 0 | H30: =SUM(D30:G30) -> 0
B31: =SUM(B27:B30) -> 450 | C31: =IF(ISERROR(D31/B31),0,(D31/B31)) -> 426.95733 | D31: =SUM(D27:D30) -> 192130.8 | E31: =SUM(E27:E30) -> 76498.88 | G31: =SUM(G27:G30) -> 33099.73 | H31: =SUM(D31:G31) -> 301729.41
A33: Jordon | B33: 35 | C33: =IF(ISERROR(D33/B33),0,(D33/B33)) -> 452.47114 | D33: 15836.49 | E33: 3674.81 | G33: 3235.83 | H33: =SUM(D33:G33) -> 22747.13
A34: Kuwait | B34: 101 | C34: =IF(ISERROR(D34/B34),0,(D34/B34)) -> 463.05604 | D34: 46768.66 | E34: 8303.31 | G34: 8459.28 | H34: =SUM(D34:G34) -> 63531.25
A35: Lebanon | B35: 54 | C35: =IF(ISERROR(D35/B35),0,(D35/B35)) -> 281.47407 | D35: 15199.6 | E35: 2884.7 | G35: 2957.19 | H35: =SUM(D35:G35) -> 21041.49
A36: ME Other | B36: 575 | C36: =IF(ISERROR(D36/B36),0,(D36/B36)) -> 324.36043 | D36: 186507.25 | E36: 15413.8 | G36: 30396.46 | H36: =SUM(D36:G36) -> 232317.51
A37: Saudi Arabia | B37: 101 | C37: =IF(ISERROR(D37/B37),0,(D37/B37)) -> 199.99455 | D37: 20199.45 | E37: 3901.4 | G37: 3943.01 | H37: =SUM(D37:G37) -> 28043.86
A38: United Arab Emirates | B38: 8 | C38: =IF(ISERROR(D38/B38),0,(D38/B38)) -> 574.455 | D38: 4595.64 | E38: 1428.22 | G38: 833.32 | H38: =SUM(D38:G38) -> 6857.18
B39: =SUM(B33:B38) -> 874 | C39: =IF(ISERROR(D39/B39),0,(D39/B39)) -> 330.78614 | D39: =SUM(D33:D38) -> 289107.09 | E39: =SUM(E33:E38) -> 35606.24 | G39: =SUM(G33:G38) -> 49825.09 | H39: =SUM(H33:H38) -> 374538.42
A41: Hungary | B41: 53 | C41: =IF(ISERROR(D41/B41),0,(D41/B41)) -> 185.90415 | D41: 9852.92 | E41: 7225.87 | G41: 2085.41 | H41: =SUM(D41:G41) -> 19164.2
A42: Russia | B42: 2362 | C42: =IF(ISERROR(D42/B42),0,(D42/B42)) -> 335.62101 | D42: 792736.82 | E42: 386488.13 | G42: 157354.69 | H42: =SUM(D42:G42) -> 1336579.6
A43: Other East Europe | B43: 972 | C43: =IF(ISERROR(D43/B43),0,(D43/B43)) -> 302.21745 | D43: 293755.36 | E43: 120915.98 | G43: 52918.3 | H43: =SUM(D43:G43) -> 467589.64
B45: =SUM(B41:B43) -> 3387 | C45: =IF(ISERROR(D45/B45),0,(D45/B45)) -> 323.69209 | D45: =SUM(D41:D43) -> 1096345.1 | E45: =SUM(E41:E43) -> 514629.98 | G45: =SUM(G41:G43) -> 212358.4 | H45: =SUM(D45:G45) -> 1823333.5
A47: Actual closing of the Month | B47: 11754 | C47: =IF(ISERROR(D47/B47),0,(D47/B47)) -> 314.03282 | D47: 3691141.7 | E47: 1825387.3 | G47: 703185 | H47: =+G47+E47+D47 -> 6219714.1

Sheet Jun 09
A4: 39965
A5: Country | B5: RmNts | C5: ARR | D5: Revenue | E5: F& B Rev | F5: Avr Sp F&B | G5: Other Rev | H5: Total Rev | I5: Perc%
A6: UK | C6: =IF(ISERROR(D6/B6),0,(D6/B6)) -> 0 | F6: =IF(ISERROR(E6/B6),0,(E6/B6)) -> 0 | H6: =+G6+E6+D6 -> 0 | I6: =B6/$B$20 -> #DIV/0!
A7: Italian | C7: =IF(ISERROR(D7/B7),0,(D7/B7)) -> 0 | F7: =IF(ISERROR(E7/B7),0,(E7/B7)) -> 0 | H7: =+G7+E7+D7 -> 0 | I7: =B7/$B$20 -> #DIV/0!
A8: Egyptian | C8: =IF(ISERROR(D8/B8),0,(D8/B8)) -> 0 | F8: =IF(ISERROR(E8/B8),0,(E8/B8)) -> 0 | H8: =+G8+E8+D8 -> 0 | I8: =B8/$B$20 -> #DIV/0!
A9: Russian and EE | C9: =IF(ISERROR(D9/B9),0,(D9/B9)) -> 0 | F9: =IF(ISERROR(E9/B9),0,(E9/B9)) -> 0 | H9: =+G9+E9+D9 -> 0 | I9: =B9/$B$20 -> #DIV/0!
A10: Scandinavian | C10: =IF(ISERROR(D10/B10),0,(D10/B10)) -> 0 | F10: =IF(ISERROR(E10/B10),0,(E10/B10)) -> 0 | H10: =+G10+E10+D10 -> 0 | I10: =B10/$B$20 -> #DIV/0!
A11: ME and Gulf | C11: =IF(ISERROR(D11/B11),0,(D11/B11)) -> 0 | F11: =IF(ISERROR(E11/B11),0,(E11/B11)) -> 0 | H11: =+G11+E11+D11 -> 0 | I11: =B11/$B$20 -> #DIV/0!
A12: France | C12: =IF(ISERROR(D12/B12),0,(D12/B12)) -> 0 | F12: =IF(ISERROR(E12/B12),0,(E12/B12)) -> 0 | H12: =+G12+E12+D12 -> 0 | I12: =B12/$B$20 -> #DIV/0!
A13: Netherland | C13: =IF(ISERROR(D13/B13),0,(D13/B13)) -> 0 | F13: =IF(ISERROR(E13/B13),0,(E13/B13)) -> 0 | H13: =+G13+E13+D13 -> 0 | I13: =B13/$B$20 -> #DIV/0!
A14: Israeli | C14: =IF(ISERROR(D14/B14),0,(D14/B14)) -> 0 | F14: =IF(ISERROR(E14/B14),0,(E14/B14)) -> 0 | H14: =+G14+E14+D14 -> 0 | I14: =B14/$B$20 -> #DIV/0!
A15: Germany | C15: =IF(ISERROR(D15/B15),0,(D15/B15)) -> 0 | F15: =IF(ISERROR(E15/B15),0,(E15/B15)) -> 0 | H15: =+G15+E15+D15 -> 0 | I15: =B15/$B$20 -> #DIV/0!
A16: Poland | C16: =IF(ISERROR(D16/B16),0,(D16/B16)) -> 0 | F16: =IF(ISERROR(E16/B16),0,(E16/B16)) -> 0 | H16: =+G16+E16+D16 -> 0 | I16: =B16/$B$20 -> #DIV/0!
A17: Switzerland | C17: =IF(ISERROR(D17/B17),0,(D17/B17)) -> 0 | F17: =IF(ISERROR(E17/B17),0,(E17/B17)) -> 0 | H17: =+G17+E17+D17 -> 0 | I17: =B17/$B$20 -> #DIV/0!
... A19: Others | C19: =IF(ISERROR(D19/B19),0,(D19/B19)) -> 0 | F19: =IF(ISERROR(E19/B19),0,(E19/B19)) -> 0 | H19: =+G19+E19+D19 -> 0 | I19: =B19/$B$20 -> #DIV/0!
A20: Total | B20: =SUM(B6:B19) -> 0 | C20: =IF(ISERROR(D20/B20),0,(D20/B20)) -> 0 | D20: =SUM(D6:D19) -> 0 | E20: =SUM(E6:E19) -> 0 | G20: =SUM(G6:G19) -> 0 | H20: =SUM(H6:H19) -> 0 | I20: =SUM(I6:I19) -> #DIV/0!
B21: =B20/(394*30) -> 0
A23: Diff +/-
A27: Denmark | B27: 66 | C27: =IF(ISERROR(D27/B27),0,(D27/B27)) -> 220.86864 | D27: 14577.33 | E27: 4624.84 | G27: 3035.83 | H27: =SUM(D27:G27) -> 22238
A28: Sweden | B28: 19 | C28: =IF(ISERROR(D28/B28),0,(D28/B28)) -> 232.18053 | D28: 4411.43 | E28: 654.34 | G28: 777.69 | H28: =SUM(D28:G28) -> 5843.46
A29: Norway | B29: 218 | C29: =IF(ISERROR(D29/B29),0,(D29/B29)) -> 269.10867 | D29: 58665.69 | E29: 19769.57 | G29: 12659.59 | H29: =SUM(D29:G29) -> 91094.85
A30: Finland | C30: =IF(ISERROR(D30/B30),0,(D30/B30)) -> 0 | H30: =SUM(D30:G30) -> 0
B31: =SUM(B27:B30) -> 303 | C31: =IF(ISERROR(D31/B31),0,(D31/B31)) -> 256.28531 | D31: =SUM(D27:D30) -> 77654.45 | E31: =SUM(E27:E30) -> 25048.75 | G31: =SUM(G27:G30) -> 16473.11 | H31: =SUM(D31:G31) -> 119176.31
A33: Jordon | B33: 36 | C33: =IF(ISERROR(D33/B33),0,(D33/B33)) -> 558.79778 | D33: 20116.72 | E33: 3244.03 | G33: 2801.27 | H33: =SUM(D33:G33) -> 26162.02
A34: Kuwait | B34: 70 | C34: =IF(ISERROR(D34/B34),0,(D34/B34)) -> 375.21429 | D34: 26265 | E34: 4870.31 | G34: 5160.75 | H34: =SUM(D34:G34) -> 36296.06
A35: Lebanon | B35: 64 | C35: =IF(ISERROR(D35/B35),0,(D35/B35)) -> 432.64266 | D35: 27689.13 | E35: 5245 | G35: 5670.93 | H35: =SUM(D35:G35) -> 38605.06
A36: ME Other | B36: 9 | C36: =IF(ISERROR(D36/B36),0,(D36/B36)) -> 1167.8789 | D36: 10510.91 | E36: 706.5 | G36: 1277.09 | H36: =SUM(D36:G36) -> 12494.5
A37: Saudi Arabia | B37: 63 | C37: =IF(ISERROR(D37/B37),0,(D37/B37)) -> 439.61683 | D37: 27695.86 | E37: 5469.29 | G37: 4001.68 | H37: =SUM(D37:G37) -> 37166.83
A38: United Arab Emirates | B38: 14 | C38: =IF(ISERROR(D38/B38),0,(D38/B38)) -> 1051.765 | D38: 14724.71 | E38: 4281.36 | G38: 2850.99 | H38: =SUM(D38:G38) -> 21857.06
B39: =SUM(B33:B38) -> 256 | C39: =IF(ISERROR(D39/B39),0,(D39/B39)) -> 496.10285 | D39: =SUM(D33:D38) -> 127002.33 | E39: =SUM(E33:E38) -> 23816.49 | G39: =SUM(G33:G38) -> 21762.71 | H39: =SUM(H33:H38) -> 172581.53
A41: Hungary | B41: 3 | C41: =IF(ISERROR(D41/B41),0,(D41/B41)) -> 328.46 | D41: 985.38 | E41: 608.94 | G41: 151.35 | H41: =SUM(D41:G41) -> 1745.67
A42: Russia | B42: 1386 | C42: =IF(ISERROR(D42/B42),0,(D42/B42)) -> 263.59756 | D42: 365346.22 | E42: 206267.72 | G42: 75780.74 | H42: =SUM(D42:G42) -> 647394.68
A43: Other East Europe | B43: 725 | C43: =IF(ISERROR(D43/B43),0,(D43/B43)) -> 256.04623 | D43: 185633.52 | E43: 82087.84 | G43: 35782.83 | H43: =SUM(D43:G43) -> 303504.19
B45: =SUM(B41:B43) -> 2114 | C45: =IF(ISERROR(D45/B45),0,(D45/B45)) -> 261.09987 | D45: =SUM(D41:D43) -> 551965.12 | E45: =SUM(E41:E43) -> 288964.5 | G45: =SUM(G41:G43) -> 111714.92 | H45: =SUM(D45:G45) -> 952644.54
A47: Actual closing of the Month | B47: 10707 | C47: =IF(ISERROR(D47/B47),0,(D47/B47)) -> 284.78106 | D47: 3049150.9 | E47: 1635669.4 | G47: 586476 | H47: =+G47+E47+D47 -> 5271296.2

Sheet July 09
A4: 39995
A5: Country | B5: RmNts | C5: ARR | D5: Revenue | E5: F& B Rev | F5: Avr Sp F&B | G5: Other Rev | H5: Total Rev | I5: Perc%
A6: UK | C6: =IF(ISERROR(D6/B6),0,(D6/B6)) -> 0 | F6: =IF(ISERROR(E6/B6),0,(E6/B6)) -> 0 | H6: =G6+E6+D6 -> 0 | I6: =B6/$B$20 -> #DIV/0!
A7: Italian | C7: =IF(ISERROR(D7/B7),0,(D7/B7)) -> 0 | F7: =IF(ISERROR(E7/B7),0,(E7/B7)) -> 0 | H7: =G7+E7+D7 -> 0 | I7: =B7/$B$20 -> #DIV/0!
A8: Egyptian | C8: =IF(ISERROR(D8/B8),0,(D8/B8)) -> 0 | F8: =IF(ISERROR(E8/B8),0,(E8/B8)) -> 0 | H8: =G8+E8+D8 -> 0 | I8: =B8/$B$20 -> #DIV/0!
A9: Russian and EE | C9: =IF(ISERROR(D9/B9),0,(D9/B9)) -> 0 | F9: =IF(ISERROR(E9/B9),0,(E9/B9)) -> 0 | H9: =G9+E9+D9 -> 0 | I9: =B9/$B$20 -> #DIV/0!
A10: Scandinavian | C10: =IF(ISERROR(D10/B10),0,(D10/B10)) -> 0 | F10: =IF(ISERROR(E10/B10),0,(E10/B10)) -> 0 | H10: =G10+E10+D10 -> 0 | I10: =B10/$B$20 -> #DIV/0!
A11: ME and Gulf | C11: =IF(ISERROR(D11/B11),0,(D11/B11)) -> 0 | F11: =IF(ISERROR(E11/B11),0,(E11/B11)) -> 0 | H11: =G11+E11+D11 -> 0 | I11: =B11/$B$20 -> #DIV/0!
A12: France | C12: =IF(ISERROR(D12/B12),0,(D12/B12)) -> 0 | F12: =IF(ISERROR(E12/B12),0,(E12/B12)) -> 0 | H12: =G12+E12+D12 -> 0 | I12: =B12/$B$20 -> #DIV/0!
A13: Netherland | C13: =IF(ISERROR(D13/B13),0,(D13/B13)) -> 0 | F13: =IF(ISERROR(E13/B13),0,(E13/B13)) -> 0 | H13: =G13+E13+D13 -> 0 | I13: =B13/$B$20 -> #DIV/0!
A14: Israeli | C14: =IF(ISERROR(D14/B14),0,(D14/B14)) -> 0 | F14: =IF(ISERROR(E14/B14),0,(E14/B14)) -> 0 | H14: =G14+E14+D14 -> 0 | I14: =B14/$B$20 -> #DIV/0!
A15: Germany | C15: =IF(ISERROR(D15/B15),0,(D15/B15)) -> 0 | F15: =IF(ISERROR(E15/B15),0,(E15/B15)) -> 0 | H15: =G15+E15+D15 -> 0 | I15: =B15/$B$20 -> #DIV/0!
A16: Poland | C16: =IF(ISERROR(D16/B16),0,(D16/B16)) -> 0 | F16: =IF(ISERROR(E16/B16),0,(E16/B16)) -> 0 | H16: =G16+E16+D16 -> 0 | I16: =B16/$B$20 -> #DIV/0!
A17: Switzerland | C17: =IF(ISERROR(D17/B17),0,(D17/B17)) -> 0 | F17: =IF(ISERROR(E17/B17),0,(E17/B17)) -> 0 | H17: =G17+E17+D17 -> 0 | I17: =B17/$B$20 -> #DIV/0!
... A19: Others | C19: =IF(ISERROR(D19/B19),0,(D19/B19)) -> 0 | F19: =IF(ISERROR(E19/B19),0,(E19/B19)) -> 0 | H19: =G19+E19+D19 -> 0 | I19: =B19/$B$20 -> #DIV/0!
A20: Total | B20: =SUM(B6:B19) -> 0 | C20: =IF(ISERROR(D20/B20),0,(D20/B20)) -> 0 | D20: =SUM(D6:D19) -> 0 | E20: =SUM(E6:E19) -> 0 | G20: =SUM(G6:G19) -> 0 | H20: =SUM(H6:H19) -> 0 | I20: =SUM(I6:I19) -> #DIV/0!
B21: =B20/(394*31) -> 0
K22: 141
A23: Diff +/-
K24: =K23*K22 -> 0
A27: Denmark | B27: 222 | C27: =IF(ISERROR(D27/B27),0,(D27/B27)) -> 272.12149 | D27: 60410.97 | F27: 17977.72 | G27: 10749.78 | H27: =SUM(D27:G27) -> 89138.47
A28: Sweden | B28: 2 | C28: =IF(ISERROR(D28/B28),0,(D28/B28)) -> 438.52 | D28: 877.04 | F28: 99.22 | G28: 189.09 | H28: =SUM(D28:G28) -> 1165.35
A29: Norway | B29: 219 | C29: =IF(ISERROR(D29/B29),0,(D29/B29)) -> 440.24977 | D29: 96414.7 | F29: 25146.38 | G29: 19817.43 | H29: =SUM(D29:G29) -> 141378.51
A30: Finland | B30: 0 | C30: =IF(ISERROR(D30/B30),0,(D30/B30)) -> 0 | H30: =SUM(D30:G30) -> 0
B31: =SUM(B27:B30) -> 443 | C31: =IF(ISERROR(D31/B31),0,(D31/B31)) -> 355.98806 | D31: =SUM(D27:D30) -> 157702.71 | F31: =SUM(F27:F30) -> 43223.32 | G31: =SUM(G27:G30) -> 30756.3 | H31: =SUM(D31:G31) -> 231682.33
A33: Jordon | B33: 106 | C33: =IF(ISERROR(D33/B33),0,(D33/B33)) -> 536.07406 | D33: 56823.85 | F33: 9896.85 | G33: 9045.33 | H33: =SUM(D33:G33) -> 75766.03
A34: Kuwait | B34: 55 | C34: =IF(ISERROR(D34/B34),0,(D34/B34)) -> 534.92564 | D34: 29420.91 | F34: 5248.36 | G34: 4645.15 | H34: =SUM(D34:G34) -> 39314.42
A35: Lebanon | B35: 50 | C35: =IF(ISERROR(D35/B35),0,(D35/B35)) -> 222.0894 | D35: 11104.47 | F35: 5854.33 | G35: 3820.75 | H35: =SUM(D35:G35) -> 20779.55
A36: ME Other | B36: 57 | C36: =IF(ISERROR(D36/B36),0,(D36/B36)) -> 399.48825 | D36: 22770.83 | F36: 6798.92 | G36: 4846.73 | H36: =SUM(D36:G36) -> 34416.48
A37: Saudi Arabia | B37: 223 | C37: =IF(ISERROR(D37/B37),0,(D37/B37)) -> 544.62749 | D37: 121451.93 | F37: 22292.74 | G37: 24944.87 | H37: =SUM(D37:G37) -> 168689.54
A38: United Arab Emirates | C38: =IF(ISERROR(D38/B38),0,(D38/B38)) -> 0 | H38: =SUM(D38:G38) -> 0
B39: =SUM(B33:B38) -> 491 | C39: =IF(ISERROR(D39/B39),0,(D39/B39)) -> 491.99998 | D39: =SUM(D33:D38) -> 241571.99 | F39: =SUM(F33:F38) -> 50091.2 | G39: =SUM(G33:G38) -> 47302.83 | H39: =SUM(H33:H38) -> 338966.02
A41: Hungary | B41: 9 | C41: =IF(ISERROR(D41/B41),0,(D41/B41)) -> 211.45 | D41: 1903.05 | E41: 1305.24 | G41: 416.23 | H41: =SUM(D41:G41) -> 3624.52
A42: Russia | B42: 934 | C42: =IF(ISERROR(D42/B42),0,(D42/B42)) -> 275.71051 | D42: 257513.62 | E42: 153898.02 | G42: 54447.61 | H42: =SUM(D42:G42) -> 465859.25
A43: Other East Europe | B43: 1116 | C43: =IF(ISERROR(D43/B43),0,(D43/B43)) -> 275.41712 | D43: 307365.51 | E43: 131381.61 | G43: 58785.69 | H43: =SUM(D43:G43) -> 497532.81
B45: =SUM(B41:B43) -> 2059 | C45: =IF(ISERROR(D45/B45),0,(D45/B45)) -> 275.27061 | D45: =SUM(D41:D43) -> 566782.18 | E45: =SUM(E41:E43) -> 286584.87 | G45: =SUM(G41:G43) -> 113649.53 | H45: =SUM(D45:G45) -> 967016.58
A47: Actual closing of the Month | B47: 11024 | C47: =IF(ISERROR(D47/B47),0,(D47/B47)) -> 340.69674 | D47: 3755840.8 | E47: 1629686.6 | G47: 729765 | H47: =+G47+E47+D47 -> 6115292.4

Sheet Aug 09
A4: 40026
A5: Country | B5: RmNts | C5: ARR | D5: Revenue | E5: F& B Rev | F5: Avr Sp F&B | G5: Other Rev | H5: Total Rev | I5: Perc%
A6: UK | C6: =IF(ISERROR(D6/B6),0,(D6/B6)) -> 0 | F6: =IF(ISERROR(E6/B6),0,(E6/B6)) -> 0 | H6: =G6+E6+D6 -> 0 | I6: =B6/$B$20 -> #DIV/0!
A7: Italian | C7: =IF(ISERROR(D7/B7),0,(D7/B7)) -> 0 | F7: =IF(ISERROR(E7/B7),0,(E7/B7)) -> 0 | H7: =G7+E7+D7 -> 0 | I7: =B7/$B$20 -> #DIV/0!
A8: Egyptian | C8: =IF(ISERROR(D8/B8),0,(D8/B8)) -> 0 | F8: =IF(ISERROR(E8/B8),0,(E8/B8)) -> 0 | H8: =G8+E8+D8 -> 0 | I8: =B8/$B$20 -> #DIV/0!
A9: Russian and EE | C9: =IF(ISERROR(D9/B9),0,(D9/B9)) -> 0 | F9: =IF(ISERROR(E9/B9),0,(E9/B9)) -> 0 | H9: =G9+E9+D9 -> 0 | I9: =B9/$B$20 -> #DIV/0!
A10: Scandinavian | C10: =IF(ISERROR(D10/B10),0,(D10/B10)) -> 0 | F10: =IF(ISERROR(E10/B10),0,(E10/B10)) -> 0 | H10: =G10+E10+D10 -> 0 | I10: =B10/$B$20 -> #DIV/0!
A11: ME and Gulf | C11: =IF(ISERROR(D11/B11),0,(D11/B11)) -> 0 | F11: =IF(ISERROR(E11/B11),0,(E11/B11)) -> 0 | H11: =G11+E11+D11 -> 0 | I11: =B11/$B$20 -> #DIV/0!
A12: France | C12: =IF(ISERROR(D12/B12),0,(D12/B12)) -> 0 | F12: =IF(ISERROR(E12/B12),0,(E12/B12)) -> 0 | H12: =G12+E12+D12 -> 0 | I12: =B12/$B$20 -> #DIV/0!
A13: Netherland | C13: =IF(ISERROR(D13/B13),0,(D13/B13)) -> 0 | F13: =IF(ISERROR(E13/B13),0,(E13/B13)) -> 0 | H13: =G13+E13+D13 -> 0 | I13: =B13/$B$20 -> #DIV/0!
A14: Israeli | C14: =IF(ISERROR(D14/B14),0,(D14/B14)) -> 0 | F14: =IF(ISERROR(E14/B14),0,(E14/B14)) -> 0 | H14: =G14+E14+D14 -> 0 | I14: =B14/$B$20 -> #DIV/0!
A15: Germany | C15: =IF(ISERROR(D15/B15),0,(D15/B15)) -> 0 | F15: =IF(ISERROR(E15/B15),0,(E15/B15)) -> 0 | H15: =G15+E15+D15 -> 0 | I15: =B15/$B$20 -> #DIV/0!
A16: Poland | C16: =IF(ISERROR(D16/B16),0,(D16/B16)) -> 0 | F16: =IF(ISERROR(E16/B16),0,(E16/B16)) -> 0 | H16: =G16+E16+D16 -> 0 | I16: =B16/$B$20 -> #DIV/0!
A17: Switzerland | C17: =IF(ISERROR(D17/B17),0,(D17/B17)) -> 0 | F17: =IF(ISERROR(E17/B17),0,(E17/B17)) -> 0 | H17: =G17+E17+D17 -> 0 | I17: =B17/$B$20 -> #DIV/0!
... A19: Others | C19: =IF(ISERROR(D19/B19),0,(D19/B19)) -> 0 | F19: =IF(ISERROR(E19/B19),0,(E19/B19)) -> 0 | H19: =G19+E19+D19 -> 0 | I19: =B19/$B$20 -> #DIV/0!
A20: Total | B20: =SUM(B6:B19) -> 0 | C20: =IF(ISERROR(D20/B20),0,(D20/B20)) -> 0 | D20: =SUM(D6:D19) -> 0 | E20: =SUM(E6:E19) -> 0 | G20: =SUM(G6:G19) -> 0 | H20: =SUM(H6:H19) -> 0 | I20: =SUM(I6:I19) -> #DIV/0!
B21: =B20/(394*31) -> 0
A23: Diff +/-
A27: Denmark | B27: 122 | C27: =IF(ISERROR(D27/B27),0,(D27/B27)) -> 325.04033 | D27: 39654.92 | E27: 8613.27 | F27: 7135.69 | H27: =SUM(D27:G27) -> 55403.88
A28: Norway | B28: 134 | C28: =IF(ISERROR(D28/B28),0,(D28/B28)) -> 579.33396 | D28: 77630.75 | E28: 17530.09 | F28: 13118.98 | H28: =SUM(D28:G28) -> 108279.82
A29: Sweden | C29: =IF(ISERROR(D29/B29),0,(D29/B29)) -> 0 | H29: =SUM(D29:G29) -> 0
A30: Finland | C30: =IF(ISERROR(D30/B30),0,(D30/B30)) -> 0 | H30: =SUM(D30:G30) -> 0
B31: =SUM(B27:B30) -> 256 | C31: =IF(ISERROR(D31/B31),0,(D31/B31)) -> 458.14715 | D31: =SUM(D27:D30) -> 117285.67 | E31: =SUM(E27:E30) -> 26143.36 | F31: =SUM(F27:F30) -> 20254.67 | H31: =SUM(D31:G31) -> 163683.7
A33: Jordon | B33: 52 | C33: =IF(ISERROR(D33/B33),0,(D33/B33)) -> 584.79577 | D33: 30409.38 | E33: 3134.37 | G33: 4821.75 | H33: =SUM(D33:G33) -> 38365.5
A34: Kuwait | B34: 79 | C34: =IF(ISERROR(D34/B34),0,(D34/B34)) -> 740.44823 | D34: 58495.41 | E34: 12227.95 | G34: 10605.57 | H34: =SUM(D34:G34) -> 81328.93
A35: Lebanon | B35: 60 | C35: =IF(ISERROR(D35/B35),0,(D35/B35)) -> 358.4995 | D35: 21509.97 | E35: 3542.78 | G35: 4763.99 | H35: =SUM(D35:G35) -> 29816.74
A36: ME Other | B36: 155 | C36: =IF(ISERROR(D36/B36),0,(D36/B36)) -> 539.72374 | D36: 83657.18 | E36: 15444.34 | G36: 16686.12 | H36: =SUM(D36:G36) -> 115787.64
A37: Saudi Arabia | B37: 379 | C37: =IF(ISERROR(D37/B37),0,(D37/B37)) -> 698.70003 | D37: 264807.31 | E37: 29585.59 | G37: 41422.34 | H37: =SUM(D37:G37) -> 335815.24
A38: United Arab Emirates | B38: 31 | C38: =IF(ISERROR(D38/B38),0,(D38/B38)) -> 542.14097 | D38: 16806.37 | E38: 4328.76 | G38: 3132.7 | H38: =SUM(D38:G38) -> 24267.83
B39: =SUM(B33:B38) -> 756 | C39: =IF(ISERROR(D39/B39),0,(D39/B39)) -> 629.21378 | D39: =SUM(D33:D38) -> 475685.62 | E39: =SUM(E33:E38) -> 68263.79 | G39: =SUM(G33:G38) -> 81432.47 | H39: =SUM(H33:H38) -> 625381.88
A41: Hungary | B41: 40 | C41: =IF(ISERROR(D41/B41),0,(D41/B41)) -> 347.678 | D41: 13907.12 | E41: 6494.3 | G41: 2477.5 | H41: =SUM(D41:G41) -> 22878.92
A42: Russia | B42: 705 | C42: =IF(ISERROR(D42/B42),0,(D42/B42)) -> 499.08826 | D42: 351857.22 | E42: 101217.78 | G42: 56643.33 | H42: =SUM(D42:G42) -> 509718.33
A43: Other East Europe | B43: 805 | C43: =IF(ISERROR(D43/B43),0,(D43/B43)) -> 436.03893 | D43: 351011.34 | E43: 90195.51 | G43: 59293.57 | H43: =SUM(D43:G43) -> 500500.42
B45: =SUM(B41:B43) -> 1550 | C45: =IF(ISERROR(D45/B45),0,(D45/B45)) -> 462.43592 | D45: =SUM(D41:D43) -> 716775.68 | E45: =SUM(E41:E43) -> 197907.59 | G45: =SUM(G41:G43) -> 118414.4 | H45: =SUM(D45:G45) -> 1033097.7
A47: Actual closing of the Month | B47: 10894 | C47: =IF(ISERROR(D47/B47),0,(D47/B47)) -> 474.85476 | D47: 5173067.7 | E47: 1651845.7 | G47: 594698 | H47: =SUM(D47:G47) -> 7419611.4

Sheet Sep 09
A4: 40057
A5: Country | B5: RmNts | C5: ARR | D5: Revenue | E5: F& B Rev | F5: Avr Sp F&B | G5: Other Rev | H5: Total Rev | I5: Perc%
A6: UK | C6: =IF(ISERROR(D6/B6),0,(D6/B6)) -> 0 | F6: =IF(ISERROR(E6/B6),0,(E6/B6)) -> 0 | H6: =G6+E6+D6 -> 0 | I6: =B6/$B$20 -> #DIV/0!
A7: Italian | C7: =IF(ISERROR(D7/B7),0,(D7/B7)) -> 0 | F7: =IF(ISERROR(E7/B7),0,(E7/B7)) -> 0 | H7: =G7+E7+D7 -> 0 | I7: =B7/$B$20 -> #DIV/0!
A8: Egyptian | C8: =IF(ISERROR(D8/B8),0,(D8/B8)) -> 0 | F8: =IF(ISERROR(E8/B8),0,(E8/B8)) -> 0 | H8: =G8+E8+D8 -> 0 | I8: =B8/$B$20 -> #DIV/0!
A9: Russian and EE | C9: =IF(ISERROR(D9/B9),0,(D9/B9)) -> 0 | F9: =IF(ISERROR(E9/B9),0,(E9/B9)) -> 0 | H9: =G9+E9+D9 -> 0 | I9: =B9/$B$20 -> #DIV/0!
A10: Scandinavian | C10: =IF(ISERROR(D10/B10),0,(D10/B10)) -> 0 | F10: =IF(ISERROR(E10/B10),0,(E10/B10)) -> 0 | H10: =G10+E10+D10 -> 0 | I10: =B10/$B$20 -> #DIV/0!
A11: ME and Gulf | C11: =IF(ISERROR(D11/B11),0,(D11/B11)) -> 0 | F11: =IF(ISERROR(E11/B11),0,(E11/B11)) -> 0 | H11: =G11+E11+D11 -> 0 | I11: =B11/$B$20 -> #DIV/0!
A12: France | C12: =IF(ISERROR(D12/B12),0,(D12/B12)) -> 0 | F12: =IF(ISERROR(E12/B12),0,(E12/B12)) -> 0 | H12: =G12+E12+D12 -> 0 | I12: =B12/$B$20 -> #DIV/0!
A13: Netherland | C13: =IF(ISERROR(D13/B13),0,(D13/B13)) -> 0 | F13: =IF(ISERROR(E13/B13),0,(E13/B13)) -> 0 | H13: =G13+E13+D13 -> 0 | I13: =B13/$B$20 -> #DIV/0!
A14: Israeli | C14: =IF(ISERROR(D14/B14),0,(D14/B14)) -> 0 | F14: =IF(ISERROR(E14/B14),0,(E14/B14)) -> 0 | H14: =G14+E14+D14 -> 0 | I14: =B14/$B$20 -> #DIV/0!
A15: Germany | C15: =IF(ISERROR(D15/B15),0,(D15/B15)) -> 0 | F15: =IF(ISERROR(E15/B15),0,(E15/B15)) -> 0 | H15: =G15+E15+D15 -> 0 | I15: =B15/$B$20 -> #DIV/0!
A16: Poland | C16: =IF(ISERROR(D16/B16),0,(D16/B16)) -> 0 | F16: =IF(ISERROR(E16/B16),0,(E16/B16)) -> 0 | H16: =G16+E16+D16 -> 0 | I16: =B16/$B$20 -> #DIV/0!
A17: Switzerland | C17: =IF(ISERROR(D17/B17),0,(D17/B17)) -> 0 | F17: =IF(ISERROR(E17/B17),0,(E17/B17)) -> 0 | H17: =G17+E17+D17 -> 0 | I17: =B17/$B$20 -> #DIV/0!
... A19: Others | C19: =IF(ISERROR(D19/B19),0,(D19/B19)) -> 0 | F19: =IF(ISERROR(E19/B19),0,(E19/B19)) -> 0 | H19: =G19+E19+D19 -> 0 | I19: =B19/$B$20 -> #DIV/0!
A20: Total | B20: =SUM(B6:B19) -> 0 | C20: =IF(ISERROR(D20/B20),0,(D20/B20)) -> 0 | D20: =SUM(D6:D19) -> 0 | E20: =SUM(E6:E19) -> 0 | G20: =SUM(G6:G19) -> 0 | H20: =SUM(H6:H19) -> 0 | I20: =SUM(I6:I19) -> #DIV/0!
B21: =B20/(394*30) -> 0
A23: Diff +/-
A27: Denmark | B27: 173 | C27: =IF(ISERROR(D27/B27),0,(D27/B27)) -> 242.44376 | D27: 41942.77 | E27: 13672.18 | G27: 13672.18 | H27: =SUM(D27:G27) -> 69287.13
A28: Norway | B28: 317 | C28: =IF(ISERROR(D28/B28),0,(D28/B28)) -> 310.34886 | D28: 98380.59 | E28: 28984.81 | G28: 21242.57 | H28: =SUM(D28:G28) -> 148607.97
A29: Sweden | B29: 72 | C29: =IF(ISERROR(D29/B29),0,(D29/B29)) -> 287.84333 | D29: 20724.72 | E29: 10206.46 | G29: 5264.42 | H29: =SUM(D29:G29) -> 36195.6
A30: Finland | C30: =IF(ISERROR(D30/B30),0,(D30/B30)) -> 0 | H30: =SUM(D30:G30) -> 0
B31: =SUM(B27:B30) -> 562 | C31: =IF(ISERROR(D31/B31),0,(D31/B31)) -> 286.56242 | D31: =SUM(D27:D30) -> 161048.08 | E31: =SUM(E27:E30) -> 52863.45 | G31: =SUM(G27:G30) -> 40179.17 | H31: =SUM(D31:G31) -> 254090.7
A33: Jordon | B33: 19 | C33: =IF(ISERROR(D33/B33),0,(D33/B33)) -> 381.17842 | D33: 7242.39 | E33: 2157.4 | G33: 1175.51 | H33: =SUM(D33:G33) -> 10575.3
A34: Kuwait | B34: 5 | C34: =IF(ISERROR(D34/B34),0,(D34/B34)) -> 319.318 | D34: 1596.59 | E34: 367.87 | G34: 280.84 | H34: =SUM(D34:G34) -> 2245.3
A35: Lebanon | B35: 68 | C35: =IF(ISERROR(D35/B35),0,(D35/B35)) -> 285.74221 | D35: 19430.47 | E35: 2519.71 | G35: 3687.34 | H35: =SUM(D35:G35) -> 25637.52
A36: ME Other | B36: 33 | C36: =IF(ISERROR(D36/B36),0,(D36/B36)) -> 344.56758 | D36: 11370.73 | E36: 4676.44 | G36: 2297.78 | H36: =SUM(D36:G36) -> 18344.95
A37: Saudi Arabia | B37: 17 | C37: =IF(ISERROR(D37/B37),0,(D37/B37)) -> 954.27471 | D37: 16222.67 | E37: 1295.92 | G37: 2927.23 | H37: =SUM(D37:G37) -> 20445.82
A38: United Arab Emirates | C38: =IF(ISERROR(D38/B38),0,(D38/B38)) -> 0 | H38: =SUM(D38:G38) -> 0
B39: =SUM(B33:B38) -> 142 | C39: =IF(ISERROR(D39/B39),0,(D39/B39)) -> 393.40035 | D39: =SUM(D33:D38) -> 55862.85 | E39: =SUM(E33:E38) -> 11017.34 | G39: =SUM(G33:G38) -> 10368.7 | H39: =SUM(H33:H38) -> 77248.89
A41: Hungary | B41: 62 | C41: =IF(ISERROR(D41/B41),0,(D41/B41)) -> 181.28887 | D41: 11239.91 | E41: 8691.51 | G41: 2664.02 | H41: =SUM(D41:G41) -> 22595.44
A42: Russia | B42: 2150 | C42: =IF(ISERROR(D42/B42),0,(D42/B42)) -> 315.84531 | D42: 679067.41 | E42: 282264.09 | G42: 124757.29 | H42: =SUM(D42:G42) -> 1086088.8
A43: Other East Europe | B43: 33 | C43: =IF(ISERROR(D43/B43),0,(D43/B43)) -> 344.56758 | D43: 11370.73 | E43: 4676.44 | G43: 2297.78 | H43: =SUM(D43:G43) -> 18344.95
B45: =SUM(B41:B43) -> 2245 | C45: =IF(ISERROR(D45/B45),0,(D45/B45)) -> 312.55147 | D45: =SUM(D41:D43) -> 701678.05 | E45: =SUM(E41:E43) -> 295632.04 | G45: =SUM(G41:G43) -> 129719.09 | H45: =SUM(D45:G45) -> 1127029.2
A47: Actual closing of the Month | B47: 10031 | C47: =IF(ISERROR(D47/B47),0,(D47/B47)) -> 324.31277 | D47: 3253181.4 | E47: 1470284.5 | G47: 425957 | H47: =SUM(D47:G47) -> 5149422.9

Sheet Oct 09
A4: 40087
A5: Country | B5: RmNts | C5: ARR | D5: Revenue | E5: F& B Rev | F5: Avr Sp F&B | G5: Other Rev | H5: Total Rev | I5: Perc%
A6: UK | C6: =IF(ISERROR(D6/B6),0,(D6/B6)) -> 0 | F6: =IF(ISERROR(E6/B6),0,(E6/B6)) -> 0 | H6: =G6+E6+D6 -> 0 | I6: =B6/$B$20 -> #DIV/0!
A7: Italian | C7: =IF(ISERROR(D7/B7),0,(D7/B7)) -> 0 | F7: =IF(ISERROR(E7/B7),0,(E7/B7)) -> 0 | H7: =G7+E7+D7 -> 0 | I7: =B7/$B$20 -> #DIV/0!
A8: Egyptian | C8: =IF(ISERROR(D8/B8),0,(D8/B8)) -> 0 | F8: =IF(ISERROR(E8/B8),0,(E8/B8)) -> 0 | H8: =G8+E8+D8 -> 0 | I8: =B8/$B$20 -> #DIV/0!
A9: Russian and EE | C9: =IF(ISERROR(D9/B9),0,(D9/B9)) -> 0 | F9: =IF(ISERROR(E9/B9),0,(E9/B9)) -> 0 | H9: =G9+E9+D9 -> 0 | I9: =B9/$B$20 -> #DIV/0!
A10: Scandinavian | C10: =IF(ISERROR(D10/B10),0,(D10/B10)) -> 0 | F10: =IF(ISERROR(E10/B10),0,(E10/B10)) -> 0 | H10: =G10+E10+D10 -> 0 | I10: =B10/$B$20 -> #DIV/0!
A11: ME and Gulf | C11: =IF(ISERROR(D11/B11),0,(D11/B11)) -> 0 | F11: =IF(ISERROR(E11/B11),0,(E11/B11)) -> 0 | H11: =G11+E11+D11 -> 0 | I11: =B11/$B$20 -> #DIV/0!
A12: France | C12: =IF(ISERROR(D12/B12),0,(D12/B12)) -> 0 | F12: =IF(ISERROR(E12/B12),0,(E12/B12)) -> 0 | H12: =G12+E12+D12 -> 0 | I12: =B12/$B$20 -> #DIV/0!
A13: Netherland | C13: =IF(ISERROR(D13/B13),0,(D13/B13)) -> 0 | F13: =IF(ISERROR(E13/B13),0,(E13/B13)) -> 0 | H13: =G13+E13+D13 -> 0 | I13: =B13/$B$20 -> #DIV/0!
A14: Israeli | C14: =IF(ISERROR(D14/B14),0,(D14/B14)) -> 0 | F14: =IF(ISERROR(E14/B14),0,(E14/B14)) -> 0 | H14: =G14+E14+D14 -> 0 | I14: =B14/$B$20 -> #DIV/0!
A15: Germany | C15: =IF(ISERROR(D15/B15),0,(D15/B15)) -> 0 | F15: =IF(ISERROR(E15/B15),0,(E15/B15)) -> 0 | H15: =G15+E15+D15 -> 0 | I15: =B15/$B$20 -> #DIV/0!
A16: Poland | C16: =IF(ISERROR(D16/B16),0,(D16/B16)) -> 0 | F16: =IF(ISERROR(E16/B16),0,(E16/B16)) -> 0 | H16: =G16+E16+D16 -> 0 | I16: =B16/$B$20 -> #DIV/0!
A17: Switzerland | C17: =IF(ISERROR(D17/B17),0,(D17/B17)) -> 0 | F17: =IF(ISERROR(E17/B17),0,(E17/B17)) -> 0 | H17: =G17+E17+D17 -> 0 | I17: =B17/$B$20 -> #DIV/0!
... A19: Others | C19: =IF(ISERROR(D19/B19),0,(D19/B19)) -> 0 | F19: =IF(ISERROR(E19/B19),0,(E19/B19)) -> 0 | H19: =G19+E19+D19 -> 0 | I19: =B19/$B$20 -> #DIV/0!
A20: Total | B20: =SUM(B6:B19) -> 0 | C20: =IF(ISERROR(D20/B20),0,(D20/B20)) -> 0 | D20: =SUM(D6:D19) -> 0 | E20: =SUM(E6:E19) -> 0 | G20: =SUM(G6:G19) -> 0 | H20: =SUM(H6:H19) -> 0 | I20: =SUM(I6:I19) -> #DIV/0!
B21: =B20/(394*31) -> 0 | C21: =IF(ISERROR(D21/B21),0,(D21/B21)) -> 0
A23: Diff +/-
A27: Denmark | B27: 239 | C27: =IF(ISERROR(D27/B27),0,(D27/B27)) -> 450.15925 | D27: 107588.06 | E27: 20463 | G27: 17629.63 | H27: =SUM(D27:G27) -> 145680.69
A28: Norway | B28: =466+21 -> 487 | C28: =IF(ISERROR(D28/B28),0,(D28/B28)) -> 671.12187 | D28: =305475.74+21360.61 -> 326836.35 | E28: =55369.35+2771 -> 58140.35 | G28: =44961.02+3500.12 -> 48461.14 | H28: =SUM(D28:G28) -> 433437.84
A29: Sweden | B29: =132+26 -> 158 | C29: =IF(ISERROR(D29/B29),0,(D29/B29)) -> 1043.2772 | D29: =126140.11+38697.69 -> 164837.8 | E29: =32811.32+9260.3 -> 42071.62 | G29: =18638.93+3007.46 -> 21646.39 | H29: =SUM(D29:G29) -> 228555.81
A30: Finland | B30: =22+151 -> 173 | C30: =IF(ISERROR(D30/B30),0,(D30/B30)) -> 609.87908 | D30: =83468.33+22040.75 -> 105509.08 | E30: =14347.72+6027.2 -> 20374.92 | G30: =12221.58+4018.48 -> 16240.06 | H30: =SUM(D30:G30) -> 142124.06
B31: =SUM(B27:B30) -> 1057 | C31: =IF(ISERROR(D31/B31),0,(D31/B31)) -> 666.76565 | D31: =SUM(D27:D30) -> 704771.29 | E31: =SUM(E27:E30) -> 141049.89 | G31: =SUM(G27:G30) -> 103977.22 | H31: =SUM(D31:G31) -> 949798.4
A33: Jordon | B33: 15 | C33: =IF(ISERROR(D33/B33),0,(D33/B33)) -> 639.64267 | D33: 9594.64 | E33: 842.46 | G33: 1305.93 | H33: =SUM(D33:G33) -> 11743.03
A34: Kuwait | B34: 56 | C34: =IF(ISERROR(D34/B34),0,(D34/B34)) -> 871.57911 | D34: 48808.43 | E34: 6361.41 | G34: 7420.17 | H34: =SUM(D34:G34) -> 62590.01
A35: Lebanon | B35: 72 | C35: =IF(ISERROR(D35/B35),0,(D35/B35)) -> 417.93111 | D35: 30091.04 | E35: 3857.98 | G35: 7926.85 | H35: =SUM(D35:G35) -> 41875.87
A36: ME Other | C36: =IF(ISERROR(D36/B36),0,(D36/B36)) -> 0 | H36: =SUM(D36:G36) -> 0
A37: Saudi Arabia | B37: 123 | C37: =IF(ISERROR(D37/B37),0,(D37/B37)) -> 725.11593 | D37: 89189.26 | E37: 9822.07 | G37: 14709.49 | H37: =SUM(D37:G37) -> 113720.82
A38: United Arab Emirates | C38: =IF(ISERROR(D38/B38),0,(D38/B38)) -> 0 | H38: =SUM(D38:G38) -> 0
B39: =SUM(B33:B38) -> 266 | C39: =IF(ISERROR(D39/B39),0,(D39/B39)) -> 667.98259 | D39: =SUM(D33:D38) -> 177683.37 | E39: =SUM(E33:E38) -> 20883.92 | G39: =SUM(G33:G38) -> 31362.44 | H39: =SUM(H33:H38) -> 229929.73
A41: Hungary | B41: 61 | C41: =IF(ISERROR(D41/B41),0,(D41/B41)) -> 347.06066 | D41: 21170.7 | E41: 9144.66 | G41: 3730.44 | H41: =SUM(D41:G41) -> 34045.8
A42: Russia | B42: =3162+144 -> 3306 | C42: =IF(ISERROR(D42/B42),0,(D42/B42)) -> 448.88506 | D42: =1290035.86+193978.15 -> 1484014 | E42: =472264.96+2693.08 -> 474958.04 | G42: =225781.15+52772.46 -> 278553.61 | H42: =SUM(D42:G42) -> 2237525.7
A43: Other East Europe | B43: 598 | C43: =IF(ISERROR(D43/B43),0,(D43/B43)) -> 403.22353 | D43: 241127.67 | E43: 77890.87 | G43: 43292 | H43: =SUM(D43:G43) -> 362310.54
B45: =SUM(B41:B43) -> 3965 | C45: =IF(ISERROR(D45/B45),0,(D45/B45)) -> 440.43187 | D45: =SUM(D41:D43) -> 1746312.4 | E45: =SUM(E41:E43) -> 561993.57 | G45: =SUM(G41:G43) -> 325576.05 | H45: =SUM(D45:G45) -> 2633882
A47: Actual closing of the Month | B47: 11191 | C47: =IF(ISERROR(D47/B47),0,(D47/B47)) -> 447.10224 | D47: 5003521.2 | E47: 1851811.4 | G47: 841122 | H47: =SUM(D47:G47) -> 7696454.5

Sheet Nov 09
A4: 40118
A5: Country | B5: RmNts | C5: ARR | D5: Revenue | E5: F& B Rev | F5: Avr Sp F&B | G5: Other Rev | H5: Total Rev | I5: Perc%
A6: UK | C6: =IF(ISERROR(D6/B6),0,(D6/B6)) -> 0 | F6: =IF(ISERROR(E6/B6),0,(E6/B6)) -> 0 | H6: =G6+E6+D6 -> 0 | I6: =B6/$B$20 -> #DIV/0!
A7: Italian | C7: =IF(ISERROR(D7/B7),0,(D7/B7)) -> 0 | F7: =IF(ISERROR(E7/B7),0,(E7/B7)) -> 0 | H7: =G7+E7+D7 -> 0 | I7: =B7/$B$20 -> #DIV/0!
A8: Egyptian | C8: =IF(ISERROR(D8/B8),0,(D8/B8)) -> 0 | F8: =IF(ISERROR(E8/B8),0,(E8/B8)) -> 0 | H8: =G8+E8+D8 -> 0 | I8: =B8/$B$20 -> #DIV/0! | K8: 249649.86
A9: Russian and EE | C9: =IF(ISERROR(D9/B9),0,(D9/B9)) -> 0 | F9: =IF(ISERROR(E9/B9),0,(E9/B9)) -> 0 | H9: =G9+E9+D9 -> 0 | I9: =B9/$B$20 -> #DIV/0! | K9: 766
A10: Scandinavian | C10: =IF(ISERROR(D10/B10),0,(D10/B10)) -> 0 | F10: =IF(ISERROR(E10/B10),0,(E10/B10)) -> 0 | H10: =G10+E10+D10 -> 0 | I10: =B10/$B$20 -> #DIV/0! | K10: =K8/K9 -> 325.91366
A11: ME and Gulf | C11: =IF(ISERROR(D11/B11),0,(D11/B11)) -> 0 | F11: =IF(ISERROR(E11/B11),0,(E11/B11)) -> 0 | H11: =G11+E11+D11 -> 0 | I11: =B11/$B$20 -> #DIV/0! | K11: 971
A12: France | C12: =IF(ISERROR(D12/B12),0,(D12/B12)) -> 0 | F12: =IF(ISERROR(E12/B12),0,(E12/B12)) -> 0 | H12: =G12+E12+D12 -> 0 | I12: =B12/$B$20 -> #DIV/0! | K12: =K11*K10 -> 316462.16
A13: Netherland | C13: =IF(ISERROR(D13/B13),0,(D13/B13)) -> 0 | F13: =IF(ISERROR(E13/B13),0,(E13/B13)) -> 0 | H13: =G13+E13+D13 -> 0 | I13: =B13/$B$20 -> #DIV/0!
A14: Israeli | C14: =IF(ISERROR(D14/B14),0,(D14/B14)) -> 0 | F14: =IF(ISERROR(E14/B14),0,(E14/B14)) -> 0 | H14: =G14+E14+D14 -> 0 | I14: =B14/$B$20 -> #DIV/0!
A15: Germany | C15: =IF(ISERROR(D15/B15),0,(D15/B15)) -> 0 | F15: =IF(ISERROR(E15/B15),0,(E15/B15)) -> 0 | H15: =G15+E15+D15 -> 0 | I15: =B15/$B$20 -> #DIV/0! | J15: =+B15*458 -> 0
A16: Poland | C16: =IF(ISERROR(D16/B16),0,(D16/B16)) -> 0 | F16: =IF(ISERROR(E16/B16),0,(E16/B16)) -> 0 | H16: =G16+E16+D16 -> 0 | I16: =B16/$B$20 -> #DIV/0!
A17: Switzerland | C17: =IF(ISERROR(D17/B17),0,(D17/B17)) -> 0 | F17: =IF(ISERROR(E17/B17),0,(E17/B17)) -> 0 | H17: =G17+E17+D17 -> 0 | I17: =B17/$B$20 -> #DIV/0!
A18: USA | C18: =IF(ISERROR(D18/B18),0,(D18/B18)) -> 0 | F18: =IF(ISERROR(E18/B18),0,(E18/B18)) -> 0 | H18: =G18+E18+D18 -> 0 | I18: =B18/$B$20 -> #DIV/0!
A19: Others | C19: =IF(ISERROR(D19/B19),0,(D19/B19)) -> 0 | F19: =IF(ISERROR(E19/B19),0,(E19/B19)) -> 0 | H19: =G19+E19+D19 -> 0 | I19: =B19/$B$20 -> #DIV/0!
A20: Total | B20: =SUM(B6:B19) -> 0 | C20: =IF(ISERROR(D20/B20),0,(D20/B20)) -> 0 | D20: =SUM(D6:D19) -> 0 | E20: =SUM(E6:E19) -> 0 | G20: =SUM(G6:G19) -> 0 | H20: =SUM(H6:H19) -> 0 | I20: =SUM(I6:I19) -> #DIV/0!
B21: =B20/(394*30) -> 0 | C21: =IF(ISERROR(D21/B21),0,(D21/B21)) -> 0
A23: Diff +/-
G24: =G23/3 -> 0
A27: Denmark | B27: 369 | C27: =IF(ISERROR(D27/B27),0,(D27/B27)) -> 354.81146 | D27: 130925.43 | E27: 17682.74 | G27: 16870.33 | H27: =SUM(D27:G27) -> 165478.5
A28: Norway | B28: 716 | C28: =IF(ISERROR(D28/B28),0,(D28/B28)) -> 339.38781 | D28: 243001.67 | E28: 31325.97 | G28: 32277.17 | H28: =SUM(D28:G28) -> 306604.81
A29: Sweden | B29: 902 | C29: =IF(ISERROR(D29/B29),0,(D29/B29)) -> 408.41856 | D29: 368393.54 | E29: 36609.48 | G29: 32015.57 | H29: =SUM(D29:G29) -> 437018.59
A30: Finland | B30: 675 | C30: =IF(ISERROR(D30/B30),0,(D30/B30)) -> 326.05086 | D30: 220084.33 | E30: 22790.98 | G30: 29946.18 | H30: =SUM(D30:G30) -> 272821.49
B31: =SUM(B27:B30) -> 2662 | C31: =IF(ISERROR(D31/B31),0,(D31/B31)) -> 361.53455 | D31: =SUM(D27:D30) -> 962404.97 | E31: =SUM(E27:E30) -> 108409.17 | G31: =SUM(G27:G30) -> 111109.25 | H31: =SUM(D31:G31) -> 1181923.4
A33: Jordon | B33: 18 | C33: =IF(ISERROR(D33/B33),0,(D33/B33)) -> 305.92 | D33: 5506.56 | E33: 476.15 | G33: 1117.94 | H33: =SUM(D33:G33) -> 7100.65
A34: Kuwait | B34: 9 | C34: =IF(ISERROR(D34/B34),0,(D34/B34)) -> 492.87111 | D34: 4435.84 | E34: 309 | G34: 1768.1 | H34: =SUM(D34:G34) -> 6512.94
A35: Lebanon | B35: 30 | C35: =IF(ISERROR(D35/B35),0,(D35/B35)) -> 170.61933 | D35: 5118.58 | E35: 61 | H35: =SUM(D35:G35) -> 5179.58
A36: Morocco | B36: 2 | C36: =IF(ISERROR(D36/B36),0,(D36/B36)) -> 707.87 | D36: 1415.74 | E36: 133.2 | G36: 61.74 | H36: =SUM(D36:G36) -> 1610.68
A37: Saudi Arabia | B37: 35 | C37: =IF(ISERROR(D37/B37),0,(D37/B37)) -> 791.88971 | D37: 27716.14 | E37: 3049.5 | G37: 3717.2 | H37: =SUM(D37:G37) -> 34482.84
A38: Sudan | B38: 8 | C38: =IF(ISERROR(D38/B38),0,(D38/B38)) -> 444.16375 | D38: 3553.31 | G38: 1142.25 | H38: =SUM(D38:G38) -> 4695.56
A39: Syria | B39: 10 | C39: =IF(ISERROR(D39/B39),0,(D39/B39)) -> 599.996 | D39: 5999.96 | E39: 270 | G39: 1111.39 | H39: =SUM(D39:G39) -> 7381.35
A40: United Arab Emirates | B40: 43 | C40: =IF(ISERROR(D40/B40),0,(D40/B40)) -> 18.451628 | D40: 793.42 | E40: 374 | G40: 879.14 | H40: =SUM(D40:G40) -> 2046.56
B41: =SUM(B33:B40) -> 155 | C41: =IF(ISERROR(D41/B41),0,(D41/B41)) -> 351.86806 | D41: =SUM(D33:D40) -> 54539.55 | E41: =SUM(E33:E40) -> 4672.85 | G41: =SUM(G33:G40) -> 9797.76 | H41: =SUM(H33:H40) -> 69010.16
A43: Hungary | B43: 35 | C43: =IF(ISERROR(D43/B43),0,(D43/B43)) -> 339.63429 | D43: 11887.2 | E43: 20 | G43: 5556.95 | H43: =SUM(D43:G43) -> 17464.15
A44: Russia | B44: 3420 | C44: =IF(ISERROR(D44/B44),0,(D44/B44)) -> 404.66201 | D44: 1383944.1 | E44: 27512.38 | G44: 473821.98 | H44: =SUM(D44:G44) -> 1885278.4
A45: Ukraine | B45: 20 | C45: =IF(ISERROR(D45/B45),0,(D45/B45)) -> 426.06 | D45: 8521.2 | E45: 16 | G45: 2553.53 | H45: =SUM(D45:G45) -> 11090.73
A46: Other East Europe | B46: 7 | C46: =IF(ISERROR(D46/B46),0,(D46/B46)) -> 408.46 | D46: 2859.22 | E46: 1814 | G46: 216.09 | H46: =SUM(D46:G46) -> 4889.31
B48: =SUM(B43:B46) -> 3482 | C48: =IF(ISERROR(D48/B48),0,(D48/B48)) -> 404.13891 | D48: =SUM(D43:D46) -> 1407211.7 | E48: =SUM(E43:E46) -> 29362.38 | G48: =SUM(G43:G46) -> 482148.55 | H48: =SUM(D48:G48) -> 1918722.6
A50: Actual closing of the Month | B50: 10769 | C50: =IF(ISERROR(D50/B50),0,(D50/B50)) -> 390.74963 | D50: 4207982.7 | E50: 1780192 | G50: 640253 | H50: =SUM(D50:G50) -> 6628427.7

Sheet Dec 09
A4: 40118
A5: Country | B5: RmNts | C5: ARR | D5: Revenue | E5: F& B Rev | F5: Avr Sp F&B | G5: Other Rev | H5: Total Rev | I5: Perc%
A6: UK | C6: =IF(ISERROR(D6/B6),0,(D6/B6)) -> 0 | F6: =IF(ISERROR(E6/B6),0,(E6/B6)) -> 0 | H6: =G6+E6+D6 -> 0 | I6: =B6/$B$20 -> #DIV/0!
A7: Italian | C7: =IF(ISERROR(D7/B7),0,(D7/B7)) -> 0 | F7: =IF(ISERROR(E7/B7),0,(E7/B7)) -> 0 | H7: =G7+E7+D7 -> 0 | I7: =B7/$B$20 -> #DIV/0!
A8: Egyptian | C8: =IF(ISERROR(D8/B8),0,(D8/B8)) -> 0 | F8: =IF(ISERROR(E8/B8),0,(E8/B8)) -> 0 | H8: =G8+E8+D8 -> 0 | I8: =B8/$B$20 -> #DIV/0!
A9: Russian and EE | C9: =IF(ISERROR(D9/B9),0,(D9/B9)) -> 0 | F9: =IF(ISERROR(E9/B9),0,(E9/B9)) -> 0 | H9: =G9+E9+D9 -> 0 | I9: =B9/$B$20 -> #DIV/0!
A10: Scandinavian | C10: =IF(ISERROR(D10/B10),0,(D10/B10)) -> 0 | F10: =IF(ISERROR(E10/B10),0,(E10/B10)) -> 0 | H10: =G10+E10+D10 -> 0 | I10: =B10/$B$20 -> #DIV/0!
A11: ME and Gulf | C11: =IF(ISERROR(D11/B11),0,(D11/B11)) -> 0 | F11: =IF(ISERROR(E11/B11),0,(E11/B11)) -> 0 | H11: =G11+E11+D11 -> 0 | I11: =B11/$B$20 -> #DIV/0!
A12: France | C12: =IF(ISERROR(D12/B12),0,(D12/B12)) -> 0 | F12: =IF(ISERROR(E12/B12),0,(E12/B12)) -> 0 | H12: =G12+E12+D12 -> 0 | I12: =B12/$B$20 -> #DIV/0!
A13: Netherland | C13: =IF(ISERROR(D13/B13),0,(D13/B13)) -> 0 | F13: =IF(ISERROR(E13/B13),0,(E13/B13)) -> 0 | H13: =G13+E13+D13 -> 0 | I13: =B13/$B$20 -> #DIV/0!
A14: Israeli | C14: =IF(ISERROR(D14/B14),0,(D14/B14)) -> 0 | F14: =IF(ISERROR(E14/B14),0,(E14/B14)) -> 0 | H14: =G14+E14+D14 -> 0 | I14: =B14/$B$20 -> #DIV/0!
A15: Germany | C15: =IF(ISERROR(D15/B15),0,(D15/B15)) -> 0 | F15: =IF(ISERROR(E15/B15),0,(E15/B15)) -> 0 | H15: =G15+E15+D15 -> 0 | I15: =B15/$B$20 -> #DIV/0!
A16: Poland | C16: =IF(ISERROR(D16/B16),0,(D16/B16)) -> 0 | F16: =IF(ISERROR(E16/B16),0,(E16/B16)) -> 0 | H16: =G16+E16+D16 -> 0 | I16: =B16/$B$20 -> #DIV/0!
A17: Switzerland | C17: =IF(ISERROR(D17/B17),0,(D17/B17)) -> 0 | F17: =IF(ISERROR(E17/B17),0,(E17/B17)) -> 0 | H17: =G17+E17+D17 -> 0 | I17: =B17/$B$20 -> #DIV/0!
... A19: Others | C19: =IF(ISERROR(D19/B19),0,(D19/B19)) -> 0 | F19: =IF(ISERROR(E19/B19),0,(E19/B19)) -> 0 | H19: =G19+E19+D19 -> 0 | I19: =B19/$B$20 -> #DIV/0!
A20: Total | B20: =SUM(B6:B19) -> 0 | C20: =IF(ISERROR(D20/B20),0,(D20/B20)) -> 0 | D20: =SUM(D6:D19) -> 0 | E20: =SUM(E6:E19) -> 0 | G20: =SUM(G6:G19) -> 0 | H20: =SUM(H6:H19) -> 0 | I20: =SUM(I6:I19) -> #DIV/0!
B21: =B20/(394*31) -> 0 | C21: =IF(ISERROR(D21/B21),0,(D21/B21)) -> 0
A23: Diff +/-
D24: =D23/4 -> 0
A27: Denmark | B27: 347 | C27: =IF(ISERROR(D27/B27),0,(D27/B27)) -> 369.22254 | D27: 128120.22 | E27: 21955.21 | G27: 40213.3 | H27: =SUM(D27:G27) -> 190288.73
A28: Norway | B28: 1270 | C28: =IF(ISERROR(D28/B28),0,(D28/B28)) -> 340.72244 | D28: 432717.5 | E28: 71028.61 | G28: 93286.16 | H28: =SUM(D28:G28) -> 597032.27
A29: Sweden | B29: 686 | C29: =IF(ISERROR(D29/B29),0,(D29/B29)) -> 360.64178 | D29: 247400.26 | E29: 36277.49 | G29: 48860.02 | H29: =SUM(D29:G29) -> 332537.77
A30: Finland | B30: 481 | C30: =IF(ISERROR(D30/B30),0,(D30/B30)) -> 398.84495 | D30: 191844.42 | E30: 28014.8 | G30: 34190.06 | H30: =SUM(D30:G30) -> 254049.28
B31: =SUM(B27:B30) -> 2784 | C31: =IF(ISERROR(D31/B31),0,(D31/B31)) -> 359.225 | D31: =SUM(D27:D30) -> 1000082.4 | E31: =SUM(E27:E30) -> 157276.11 | G31: =SUM(G27:G30) -> 216549.54 | H31: =SUM(D31:G31) -> 1373908.1
A33: Jordon | B33: 41 | C33: =IF(ISERROR(D33/B33),0,(D33/B33)) -> 640.9122 | D33: 26277.4 | E33: 2974 | G33: 3016.28 | H33: =SUM(D33:G33) -> 32267.68
A34: Bahrain | B34: 14 | C34: =IF(ISERROR(D34/B34),0,(D34/B34)) -> 295.53357 | D34: 4137.47 | G34: 2381.55 | H34: =SUM(D34:G34) -> 6519.02
A35: Kuwait | B35: 69 | C35: =IF(ISERROR(D35/B35),0,(D35/B35)) -> 664.59101 | D35: 45856.78 | E35: 2957.3 | G35: 6016 | H35: =SUM(D35:G35) -> 54830.08
A36: Lebanon | B36: 59 | C36: =IF(ISERROR(D36/B36),0,(D36/B36)) -> 365.45186 | D36: 21561.66 | E36: 2401 | G36: 3951.72 | H36: =SUM(D36:G36) -> 27914.38
A37: ME Other | B37: 14 | C37: =IF(ISERROR(D37/B37),0,(D37/B37)) -> 521.27071 | D37: 7297.79 | E37: 837 | G37: 1760.59 | H37: =SUM(D37:G37) -> 9895.38
A38: Saudi Arabia | B38: 57 | C38: =IF(ISERROR(D38/B38),0,(D38/B38)) -> 688.66018 | D38: 39253.63 | E38: 1298 | G38: 3070.82 | H38: =SUM(D38:G38) -> 43622.45
A39: United Arab Emirates | B39: 42 | C39: =IF(ISERROR(D39/B39),0,(D39/B39)) -> 195.99143 | D39: 8231.64 | E39: 124 | G39: 643.39 | H39: =SUM(D39:G39) -> 8999.03
B40: =SUM(B33:B39) -> 296 | C40: =IF(ISERROR(D40/B40),0,(D40/B40)) -> 515.59584 | D40: =SUM(D33:D39) -> 152616.37 | E40: =SUM(E33:E39) -> 10591.3 | G40: =SUM(G33:G39) -> 20840.35 | H40: =SUM(H33:H39) -> 184048.02
A42: Hungary | B42: 53 | C42: =IF(ISERROR(D42/B42),0,(D42/B42)) -> 319.32094 | D42: 16924.01 | E42: 48 | G42: 7029.78 | H42: =SUM(D42:G42) -> 24001.79
A43: Russia | B43: 2464 | C43: =IF(ISERROR(D43/B43),0,(D43/B43)) -> 317.0518 | D43: 781215.64 | E43: 33641.37 | G43: 406186.34 | H43: =SUM(D43:G43) -> 1221043.4
A44: Other East Europe | B44: 39 | C44: =IF(ISERROR(D44/B44),0,(D44/B44)) -> 353.92974 | D44: 13803.26 | E44: 620 | G44: 9593.11 | H44: =SUM(D44:G44) -> 24016.37
B46: =SUM(B42:B44) -> 2556 | C46: =IF(ISERROR(D46/B46),0,(D46/B46)) -> 317.66155 | D46: =SUM(D42:D44) -> 811942.91 | E46: =SUM(E42:E44) -> 34309.37 | G46: =SUM(G42:G44) -> 422809.23 | H46: =SUM(D46:G46) -> 1269061.5
A48: Actual closing of the Month | B48: 10295 | C48: =IF(ISERROR(D48/B48),0,(D48/B48)) -> 403.95002 | D48: 4158665.4 | E48: 2355166.8 | G48: 816108 | H48: =SUM(D48:G48) -> 7329940.2

Sheet Totals 
A5: Country | B5: RmNts | C5: ARR | D5: Revenue | E5: F& B Rev | F5: Avr Sp F&B | G5: Other Rev | H5: Total Rev | I5: Perc%
A6: UK | B6: ='Jan 09'!B6+'Feb 09'!B6+'Mar 09'!B6+'April 09'!B6+'May 09'!B6+'Jun 09'!B6+'July 09'!B6+'Aug 09'!B6+'Sep 09'!B6+'Oct 09'!B6+'Nov 09'!B6+'Dec 09'!B6 -> 1747 | C6: =IF(ISERROR(D6/B6),0,(D6/B6)) -> 389.56185 | D6: ='Jan 09'!D6+'Feb 09'!D6+'Mar 09'!D6+'April 09'!D6+'May 09'!D6+'Jun 09'!D6+'July 09'!D6+'Aug 09'!D6+'Sep 09'!D6+'Oct 09'!D6+'Nov 09'!D6+'Dec 09'!D6 -> 680564.56 | E6: ='Jan 09'!E6+'Feb 09'!E6+'Mar 09'!E6+'April 09'!E6+'May 09'!E6+'Jun 09'!E6+'July 09'!E6+'Aug 09'!E6+'Sep 09'!E6+'Oct 09'!E6+'Nov 09'!E6+'Dec 09'!E6 -> 122290 | F6: =IF(ISERROR(E6/B6),0,(E6/B6)) -> 70 | G6: ='Jan 09'!G6+'Feb 09'!G6+'Mar 09'!G6+'April 09'!G6+'May 09'!G6+'Jun 09'!G6+'July 09'!G6+'Aug 09'!G6+'Sep 09'!G6+'Oct 09'!G6+'Nov 09'!G6+'Dec 09'!G6 -> 171105.37 | H6: =G6+E6+D6 -> 973959.93 | I6: =B6/$B$20 -> 0.19374515
A7: Italian | B7: ='Jan 09'!B7+'Feb 09'!B7+'Mar 09'!B7+'April 09'!B7+'May 09'!B7+'Jun 09'!B7+'July 09'!B7+'Aug 09'!B7+'Sep 09'!B7+'Oct 09'!B7+'Nov 09'!B7+'Dec 09'!B7 -> 225 | C7: =IF(ISERROR(D7/B7),0,(D7/B7)) -> 323.56827 | D7: ='Jan 09'!D7+'Feb 09'!D7+'Mar 09'!D7+'April 09'!D7+'May 09'!D7+'Jun 09'!D7+'July 09'!D7+'Aug 09'!D7+'Sep 09'!D7+'Oct 09'!D7+'Nov 09'!D7+'Dec 09'!D7 -> 72802.86 | E7: ='Jan 09'!E7+'Feb 09'!E7+'Mar 09'!E7+'April 09'!E7+'May 09'!E7+'Jun 09'!E7+'July 09'!E7+'Aug 09'!E7+'Sep 09'!E7+'Oct 09'!E7+'Nov 09'!E7+'Dec 09'!E7 -> 14625 | F7: =IF(ISERROR(E7/B7),0,(E7/B7)) -> 65 | G7: ='Jan 09'!G7+'Feb 09'!G7+'Mar 09'!G7+'April 09'!G7+'May 09'!G7+'Jun 09'!G7+'July 09'!G7+'Aug 09'!G7+'Sep 09'!G7+'Oct 09'!G7+'Nov 09'!G7+'Dec 09'!G7 -> 24737.72 | H7: =G7+E7+D7 -> 112165.58 | I7: =B7/$B$20 -> 0.024952867
A8: Egyptian | B8: ='Jan 09'!B8+'Feb 09'!B8+'Mar 09'!B8+'April 09'!B8+'May 09'!B8+'Jun 09'!B8+'July 09'!B8+'Aug 09'!B8+'Sep 09'!B8+'Oct 09'!B8+'Nov 09'!B8+'Dec 09'!B8 -> 795 | C8: =IF(ISERROR(D8/B8),0,(D8/B8)) -> 501.33179 | D8: ='Jan 09'!D8+'Feb 09'!D8+'Mar 09'!D8+'April 09'!D8+'May 09'!D8+'Jun 09'!D8+'July 09'!D8+'Aug 09'!D8+'Sep 09'!D8+'Oct 09'!D8+'Nov 09'!D8+'Dec 09'!D8 -> 398558.77 | E8: ='Jan 09'!E8+'Feb 09'!E8+'Mar 09'!E8+'April 09'!E8+'May 09'!E8+'Jun 09'!E8+'July 09'!E8+'Aug 09'!E8+'Sep 09'!E8+'Oct 09'!E8+'Nov 09'!E8+'Dec 09'!E8 -> 54060 | F8: =IF(ISERROR(E8/B8),0,(E8/B8)) -> 68 | G8: ='Jan 09'!G8+'Feb 09'!G8+'Mar 09'!G8+'April 09'!G8+'May 09'!G8+'Jun 09'!G8+'July 09'!G8+'Aug 09'!G8+'Sep 09'!G8+'Oct 09'!G8+'Nov 09'!G8+'Dec 09'!G8 -> 51747.61 | H8: =G8+E8+D8 -> 504366.38 | I8: =B8/$B$20 -> 0.088166796
A9: Russian and EE | B9: ='Jan 09'!B9+'Feb 09'!B9+'Mar 09'!B9+'April 09'!B9+'May 09'!B9+'Jun 09'!B9+'July 09'!B9+'Aug 09'!B9+'Sep 09'!B9+'Oct 09'!B9+'Nov 09'!B9+'Dec 09'!B9 -> 3379 | C9: =IF(ISERROR(D9/B9),0,(D9/B9)) -> 255.83464 | D9: ='Jan 09'!D9+'Feb 09'!D9+'Mar 09'!D9+'April 09'!D9+'May 09'!D9+'Jun 09'!D9+'July 09'!D9+'Aug 09'!D9+'Sep 09'!D9+'Oct 09'!D9+'Nov 09'!D9+'Dec 09'!D9 -> 864465.25 | E9: ='Jan 09'!E9+'Feb 09'!E9+'Mar 09'!E9+'April 09'!E9+'May 09'!E9+'Jun 09'!E9+'July 09'!E9+'Aug 09'!E9+'Sep 09'!E9+'Oct 09'!E9+'Nov 09'!E9+'Dec 09'!E9 -> 233151 | F9: =IF(ISERROR(E9/B9),0,(E9/B9)) -> 69 | G9: ='Jan 09'!G9+'Feb 09'!G9+'Mar 09'!G9+'April 09'!G9+'May 09'!G9+'Jun 09'!G9+'July 09'!G9+'Aug 09'!G9+'Sep 09'!G9+'Oct 09'!G9+'Nov 09'!G9+'Dec 09'!G9 -> 490921.53 | H9: =G9+E9+D9 -> 1588537.8 | I9: =B9/$B$20 -> 0.37473661
A10: Scandinavian | B10: ='Jan 09'!B10+'Feb 09'!B10+'Mar 09'!B10+'April 09'!B10+'May 09'!B10+'Jun 09'!B10+'July 09'!B10+'Aug 09'!B10+'Sep 09'!B10+'Oct 09'!B10+'Nov 09'!B10+'Dec 09'!B10 -> 2083 | C10: =IF(ISERROR(D10/B10),0,(D10/B10)) -> 331.81105 | D10: ='Jan 09'!D10+'Feb 09'!D10+'Mar 09'!D10+'April 09'!D10+'May 09'!D10+'Jun 09'!D10+'July 09'!D10+'Aug 09'!D10+'Sep 09'!D10+'Oct 09'!D10+'Nov 09'!D10+'Dec 09'!D10 -> 691162.41 | E10: ='Jan 09'!E10+'Feb 09'!E10+'Mar 09'!E10+'April 09'!E10+'May 09'!E10+'Jun 09'!E10+'July 09'!E10+'Aug 09'!E10+'Sep 09'!E10+'Oct 09'!E10+'Nov 09'!E10+'Dec 09'!E10 -> 162178.11 | F10: =IF(ISERROR(E10/B10),0,(E10/B10)) -> 77.85795 | G10: ='Jan 09'!G10+'Feb 09'!G10+'Mar 09'!G10+'April 09'!G10+'May 09'!G10+'Jun 09'!G10+'July 09'!G10+'Aug 09'!G10+'Sep 09'!G10+'Oct 09'!G10+'Nov 09'!G10+'Dec 09'!G10 -> 122873.27 | H10: =G10+E10+D10 -> 976213.79 | I10: =B10/$B$20 -> 0.2310081
A11: ME and Gulf | B11: ='Jan 09'!B11+'Feb 09'!B11+'Mar 09'!B11+'April 09'!B11+'May 09'!B11+'Jun 09'!B11+'July 09'!B11+'Aug 09'!B11+'Sep 09'!B11+'Oct 09'!B11+'Nov 09'!B11+'Dec 09'!B11 -> 144 | C11: =IF(ISERROR(D11/B11),0,(D11/B11)) -> 364.03785 | D11: ='Jan 09'!D11+'Feb 09'!D11+'Mar 09'!D11+'April 09'!D11+'May 09'!D11+'Jun 09'!D11+'July 09'!D11+'Aug 09'!D11+'Sep 09'!D11+'Oct 09'!D11+'Nov 09'!D11+'Dec 09'!D11 -> 52421.45 | E11: ='Jan 09'!E11+'Feb 09'!E11+'Mar 09'!E11+'April 09'!E11+'May 09'!E11+'Jun 09'!E11+'July 09'!E11+'Aug 09'!E11+'Sep 09'!E11+'Oct 09'!E11+'Nov 09'!E11+'Dec 09'!E11 -> 3983.72 | F11: =IF(ISERROR(E11/B11),0,(E11/B11)) -> 27.664722 | G11: ='Jan 09'!G11+'Feb 09'!G11+'Mar 09'!G11+'April 09'!G11+'May 09'!G11+'Jun 09'!G11+'July 09'!G11+'Aug 09'!G11+'Sep 09'!G11+'Oct 09'!G11+'Nov 09'!G11+'Dec 09'!G11 -> 4951.3 | H11: =G11+E11+D11 -> 61356.47 | I11: =B11/$B$20 -> 0.015969835
A12: France | B12: ='Jan 09'!B12+'Feb 09'!B12+'Mar 09'!B12+'April 09'!B12+'May 09'!B12+'Jun 09'!B12+'July 09'!B12+'Aug 09'!B12+'Sep 09'!B12+'Oct 09'!B12+'Nov 09'!B12+'Dec 09'!B12 -> 70 | C12: =IF(ISERROR(D12/B12),0,(D12/B12)) -> 185.90743 | D12: ='Jan 09'!D12+'Feb 09'!D12+'Mar 09'!D12+'April 09'!D12+'May 09'!D12+'Jun 09'!D12+'July 09'!D12+'Aug 09'!D12+'Sep 09'!D12+'Oct 09'!D12+'Nov 09'!D12+'Dec 09'!D12 -> 13013.52 | E12: ='Jan 09'!E12+'Feb 09'!E12+'Mar 09'!E12+'April 09'!E12+'May 09'!E12+'Jun 09'!E12+'July 09'!E12+'Aug 09'!E12+'Sep 09'!E12+'Oct 09'!E12+'Nov 09'!E12+'Dec 09'!E12 -> 1340.16 | F12: =IF(ISERROR(E12/B12),0,(E12/B12)) -> 19.145143 | G12: ='Jan 09'!G12+'Feb 09'!G12+'Mar 09'!G12+'April 09'!G12+'May 09'!G12+'Jun 09'!G12+'July 09'!G12+'Aug 09'!G12+'Sep 09'!G12+'Oct 09'!G12+'Nov 09'!G12+'Dec 09'!G12 -> 1183.04 | H12: =G12+E12+D12 -> 15536.72 | I12: =B12/$B$20 -> 0.0077631141
A13: Netherland | B13: ='Jan 09'!B13+'Feb 09'!B13+'Mar 09'!B13+'April 09'!B13+'May 09'!B13+'Jun 09'!B13+'July 09'!B13+'Aug 09'!B13+'Sep 09'!B13+'Oct 09'!B13+'Nov 09'!B13+'Dec 09'!B13 -> 255 | C13: =IF(ISERROR(D13/B13),0,(D13/B13)) -> 247.26169 | D13: ='Jan 09'!D13+'Feb 09'!D13+'Mar 09'!D13+'April 09'!D13+'May 09'!D13+'Jun 09'!D13+'July 09'!D13+'Aug 09'!D13+'Sep 09'!D13+'Oct 09'!D13+'Nov 09'!D13+'Dec 09'!D13 -> 63051.73 | E13: ='Jan 09'!E13+'Feb 09'!E13+'Mar 09'!E13+'April 09'!E13+'May 09'!E13+'Jun 09'!E13+'July 09'!E13+'Aug 09'!E13+'Sep 09'!E13+'Oct 09'!E13+'Nov 09'!E13+'Dec 09'!E13 -> 14790 | F13: =IF(ISERROR(E13/B13),0,(E13/B13)) -> 58 | G13: ='Jan 09'!G13+'Feb 09'!G13+'Mar 09'!G13+'April 09'!G13+'May 09'!G13+'Jun 09'!G13+'July 09'!G13+'Aug 09'!G13+'Sep 09'!G13+'Oct 09'!G13+'Nov 09'!G13+'Dec 09'!G13 -> 36500.73 | H13: =G13+E13+D13 -> 114342.46 | I13: =B13/$B$20 -> 0.028279916
A14: Israeli | B14: ='Jan 09'!B14+'Feb 09'!B14+'Mar 09'!B14+'April 09'!B14+'May 09'!B14+'Jun 09'!B14+'July 09'!B14+'Aug 09'!B14+'Sep 09'!B14+'Oct 09'!B14+'Nov 09'!B14+'Dec 09'!B14 -> 17 | C14: =IF(ISERROR(D14/B14),0,(D14/B14)) -> 248.08 | D14: ='Jan 09'!D14+'Feb 09'!D14+'Mar 09'!D14+'April 09'!D14+'May 09'!D14+'Jun 09'!D14+'July 09'!D14+'Aug 09'!D14+'Sep 09'!D14+'Oct 09'!D14+'Nov 09'!D14+'Dec 09'!D14 -> 4217.36 | E14: ='Jan 09'!E14+'Feb 09'!E14+'Mar 09'!E14+'April 09'!E14+'May 09'!E14+'Jun 09'!E14+'July 09'!E14+'Aug 09'!E14+'Sep 09'!E14+'Oct 09'!E14+'Nov 09'!E14+'Dec 09'!E14 -> 1144.27 | F14: =IF(ISERROR(E14/B14),0,(E14/B14)) -> 67.31 | G14: ='Jan 09'!G14+'Feb 09'!G14+'Mar 09'!G14+'April 09'!G14+'May 09'!G14+'Jun 09'!G14+'July 09'!G14+'Aug 09'!G14+'Sep 09'!G14+'Oct 09'!G14+'Nov 09'!G14+'Dec 09'!G14 -> 317.83 | H14: =G14+E14+D14 -> 5679.46 | I14: =B14/$B$20 -> 0.0018853277
A15: Germany | B15: ='Jan 09'!B15+'Feb 09'!B15+'Mar 09'!B15+'April 09'!B15+'May 09'!B15+'Jun 09'!B15+'July 09'!B15+'Aug 09'!B15+'Sep 09'!B15+'Oct 09'!B15+'Nov 09'!B15+'Dec 09'!B15 -> 81 | C15: =IF(ISERROR(D15/B15),0,(D15/B15)) -> 388.70012 | D15: ='Jan 09'!D15+'Feb 09'!D15+'Mar 09'!D15+'April 09'!D15+'May 09'!D15+'Jun 09'!D15+'July 09'!D15+'Aug 09'!D15+'Sep 09'!D15+'Oct 09'!D15+'Nov 09'!D15+'Dec 09'!D15 -> 31484.71 | E15: ='Jan 09'!E15+'Feb 09'!E15+'Mar 09'!E15+'April 09'!E15+'May 09'!E15+'Jun 09'!E15+'July 09'!E15+'Aug 09'!E15+'Sep 09'!E15+'Oct 09'!E15+'Nov 09'!E15+'Dec 09'!E15 -> 662 | F15: =IF(ISERROR(E15/B15),0,(E15/B15)) -> 8.1728395 | G15: ='Jan 09'!G15+'Feb 09'!G15+'Mar 09'!G15+'April 09'!G15+'May 09'!G15+'Jun 09'!G15+'July 09'!G15+'Aug 09'!G15+'Sep 09'!G15+'Oct 09'!G15+'Nov 09'!G15+'Dec 09'!G15 -> 11238.21 | H15: =G15+E15+D15 -> 43384.92 | I15: =B15/$B$20 -> 0.0089830321
A16: Poland | B16: ='Jan 09'!B16+'Feb 09'!B16+'Mar 09'!B16+'April 09'!B16+'May 09'!B16+'Jun 09'!B16+'July 09'!B16+'Aug 09'!B16+'Sep 09'!B16+'Oct 09'!B16+'Nov 09'!B16+'Dec 09'!B16 -> 59 | C16: =IF(ISERROR(D16/B16),0,(D16/B16)) -> 286.87915 | D16: ='Jan 09'!D16+'Feb 09'!D16+'Mar 09'!D16+'April 09'!D16+'May 09'!D16+'Jun 09'!D16+'July 09'!D16+'Aug 09'!D16+'Sep 09'!D16+'Oct 09'!D16+'Nov 09'!D16+'Dec 09'!D16 -> 16925.87 | E16: ='Jan 09'!E16+'Feb 09'!E16+'Mar 09'!E16+'April 09'!E16+'May 09'!E16+'Jun 09'!E16+'July 09'!E16+'Aug 09'!E16+'Sep 09'!E16+'Oct 09'!E16+'Nov 09'!E16+'Dec 09'!E16 -> 402 | F16: =IF(ISERROR(E16/B16),0,(E16/B16)) -> 6.8135593 | G16: ='Jan 09'!G16+'Feb 09'!G16+'Mar 09'!G16+'April 09'!G16+'May 09'!G16+'Jun 09'!G16+'July 09'!G16+'Aug 09'!G16+'Sep 09'!G16+'Oct 09'!G16+'Nov 09'!G16+'Dec 09'!G16 -> 10359.29 | H16: =G16+E16+D16 -> 27687.16 | I16: =B16/$B$20 -> 0.0065431962
A17: Switzerland | B17: ='Jan 09'!B17+'Feb 09'!B17+'Mar 09'!B17+'April 09'!B17+'May 09'!B17+'Jun 09'!B17+'July 09'!B17+'Aug 09'!B17+'Sep 09'!B17+'Oct 09'!B17+'Nov 09'!B17+'Dec 09'!B17 -> 15 | C17: =IF(ISERROR(D17/B17),0,(D17/B17)) -> 335.87933 | D17: ='Jan 09'!D17+'Feb 09'!D17+'Mar 09'!D17+'April 09'!D17+'May 09'!D17+'Jun 09'!D17+'July 09'!D17+'Aug 09'!D17+'Sep 09'!D17+'Oct 09'!D17+'Nov 09'!D17+'Dec 09'!D17 -> 5038.19 | E17: ='Jan 09'!E17+'Feb 09'!E17+'Mar 09'!E17+'April 09'!E17+'May 09'!E17+'Jun 09'!E17+'July 09'!E17+'Aug 09'!E17+'Sep 09'!E17+'Oct 09'!E17+'Nov 09'!E17+'Dec 09'!E17 -> 840 | F17: =IF(ISERROR(E17/B17),0,(E17/B17)) -> 56 | G17: ='Jan 09'!G17+'Feb 09'!G17+'Mar 09'!G17+'April 09'!G17+'May 09'!G17+'Jun 09'!G17+'July 09'!G17+'Aug 09'!G17+'Sep 09'!G17+'Oct 09'!G17+'Nov 09'!G17+'Dec 09'!G17 -> 405.65 | H17: =G17+E17+D17 -> 6283.84 | I17: =B17/$B$20 -> 0.0016635245
... A19: Others | B19: ='Jan 09'!B19+'Feb 09'!B19+'Mar 09'!B19+'April 09'!B19+'May 09'!B19+'Jun 09'!B19+'July 09'!B19+'Aug 09'!B19+'Sep 09'!B19+'Oct 09'!B19+'Nov 09'!B19+'Dec 09'!B19 -> 34 | C19: =IF(ISERROR(D19/B19),0,(D19/B19)) -> 538.84412 | D19: ='Jan 09'!D19+'Feb 09'!D19+'Mar 09'!D19+'April 09'!D19+'May 09'!D19+'Jun 09'!D19+'July 09'!D19+'Aug 09'!D19+'Sep 09'!D19+'Oct 09'!D19+'Nov 09'!D19+'Dec 09'!D19 -> 18320.7 | E19: ='Jan 09'!E19+'Feb 09'!E19+'Mar 09'!E19+'April 09'!E19+'May 09'!E19+'Jun 09'!E19+'July 09'!E19+'Aug 09'!E19+'Sep 09'!E19+'Oct 09'!E19+'Nov 09'!E19+'Dec 09'!E19 -> 839.72 | F19: =IF(ISERROR(E19/B19),0,(E19/B19)) -> 24.697647 | G19: ='Jan 09'!G19+'Feb 09'!G19+'Mar 09'!G19+'April 09'!G19+'May 09'!G19+'Jun 09'!G19+'July 09'!G19+'Aug 09'!G19+'Sep 09'!G19+'Oct 09'!G19+'Nov 09'!G19+'Dec 09'!G19 -> 9367.37 | H19: =G19+E19+D19 -> 28527.79 | I19: =B19/$B$20 -> 0.0037706554
A20: Total | B20: ='Jan 09'!B20+'Feb 09'!B20+'Mar 09'!B20+'April 09'!B20+'May 09'!B20+'Jun 09'!B20+'July 09'!B20+'Aug 09'!B20+'Sep 09'!B20+'Oct 09'!B20+'Nov 09'!B20+'Dec 09'!B20 -> 9017 | C20: =IF(ISERROR(D20/B20),0,(D20/B20)) -> 329.19272 | D20: =SUM(D6:D19) -> 2968330.8 | E20: =SUM(E6:E19) -> 617646.13 | G20: =SUM(G6:G19) -> 944105.39 | H20: =SUM(H6:H19) -> 4530082.3 | I20: =SUM(I6:I19) -> 1
B21: =B20/(394*366) -> 0.062529472
A23: Actual | B23: 133174 | C23: =IF(ISERROR(D23/B23),0,(D23/B23)) -> 360.31524 | D23: 47984622 | E23: 22391537 | G23: 8759007 | H23: =SUM(D23:G23) -> 79135166
B24: =B23-B20 -> 124157 | C24: =IF(ISERROR(D24/B24),0,(D24/B24)) -> 362.57554 | D24: =D23-D20 -> 45016291 | E24: =E23-E20 -> 21773891 | G24: =G23-G20 -> 7814901.6 | H24: =H23-H20 -> 74605084
